BEGIN:VCALENDAR
VERSION:2.0
PRODID:-//wp-events-plugin.com//7.2.3.1//EN
TZID:Europe/Warsaw
X-WR-TIMEZONE:Europe/Warsaw
BEGIN:VEVENT
UID:16373@night4u.pl
DTSTART;TZID=Europe/Warsaw:20190518T210000
DTEND;TZID=Europe/Warsaw:20190519T040000
DTSTAMP:20190516T204027Z
URL:https://night4u.pl/wydarzenia/hip-hop-funk-night-vol-6-kowal-w-soul-tr
 ain/
SUMMARY:Hip-hop/Funk Night vol. 6: Kowal w Soul Train
DESCRIPTION:Cykl Hip-Hop/Funk Night zadomowił się  na dobre w Soul Traini
 e nie powinno nikogo dziwić. To właśnie podczas tych eventów Kowal ser
 wuje Wam najlepszą selekcję spośród czarnych rytmów. Co tu więcej do
 dać? Po prostu wpadnijcie po raz kolejny - tym razem na już szóstą ods
 łonę! \n\nGotowi? \nWidzimy się 18 maja (sobota) o godzinie 21:00!\nWst
 ęp darmowy!\n\nKowal (Marcin Kowalik) - grywa w klubach\, na zawodach tan
 ecznych i jamach ( "Tony Open Deck”\, "Styczniowe Kometyszyn" we Wrocła
 wiu\, "Clash of the Titans" w Częstochowie i inne). Fan turntablismu i ko
 lekcjoner płyt winylowych. Od 8 lat tancerz i instruktor tańca.\nhttps:/
 /www.mixcloud.com/marcin-kowalik2/rap-all-day-all-night/
ATTACH;FMTTYPE=image/jpeg:https://night4u.pl/wp-content/uploads/2019/05/40
 094_image_60208113_2955953234545394_4019339423341608960_o.jpg
CATEGORIES:dolnośląskie
LOCATION:Soul Train Klubokawiarnia\, ul. Bogusławskiego 27\, Wroclaw\, 50-
 023\, Poland
GEO:51.10084;17.026
X-APPLE-STRUCTURED-LOCATION;VALUE=URI;X-ADDRESS=ul. Bogusławskiego 27\, Wr
 oclaw\, 50-023\, Poland;X-APPLE-RADIUS=100;X-TITLE=Soul Train Klubokawiarn
 ia:geo:51.10084,17.026
END:VEVENT
BEGIN:VTIMEZONE
TZID:Europe/Warsaw
X-LIC-LOCATION:Europe/Warsaw
BEGIN:DAYLIGHT
DTSTART:20190331T030000
TZOFFSETFROM:+0100
TZOFFSETTO:+0200
TZNAME:CEST
END:DAYLIGHT
END:VTIMEZONE
END:VCALENDAR