BEGIN:VCALENDAR
VERSION:2.0
PRODID:-//wp-events-plugin.com//7.2.3.1//EN
TZID:Europe/Warsaw
X-WR-TIMEZONE:Europe/Warsaw
BEGIN:VEVENT
UID:51274@night4u.pl
DTSTART;TZID=Europe/Warsaw:20210903T193000
DTEND;TZID=Europe/Warsaw:20210903T234500
DTSTAMP:20210829T083600Z
URL:https://night4u.pl/wydarzenia/hiraeth-x-deceaded-x-iron-head-pub-spold
 zielczy/
SUMMARY:Hiraeth x Deceaded x Iron Head • Pub Spółdzielczy
DESCRIPTION:PUB SPÓŁDZIELCZY\nul. Aleksandra Fredry 4\, Rzeszów\nOtwarci
 e bram: 19:00\nStart: 19:30\nBilety: 10zł\n\nZagrają:\nHiraeth (modern r
 ock)\nhttps://youtube.com/channel/UCAGRXb9PwrZiFtQxBDYuMYg\nDeceaded (nu/t
 rash metal)\nhttps://youtube.com/channel/UCYzpp9EE74o3pQr5jPovuNA\nIron He
 ad (melodic metal)\nhttps://youtube.com/c/IronHeadkolbuszowa
ATTACH;FMTTYPE=image/jpeg:https://night4u.pl/wp-content/uploads/2021/08/18
 6822_image_238987810_5874945039242993_7313802619313346835_n.jpg
CATEGORIES:podkarpackie
LOCATION:Pub Spółdzielczy Rzeszów\, Aleksandra Fredry 4\, Rzeszów\, 35-
 235\, Poland
GEO:50.04096;22.008936
X-APPLE-STRUCTURED-LOCATION;VALUE=URI;X-ADDRESS=Aleksandra Fredry 4\, Rzesz
 ów\, 35-235\, Poland;X-APPLE-RADIUS=100;X-TITLE=Pub Spółdzielczy Rzesz
 ów:geo:50.04096,22.008936
END:VEVENT
BEGIN:VTIMEZONE
TZID:Europe/Warsaw
X-LIC-LOCATION:Europe/Warsaw
BEGIN:DAYLIGHT
DTSTART:20210328T030000
TZOFFSETFROM:+0100
TZOFFSETTO:+0200
TZNAME:CEST
END:DAYLIGHT
END:VTIMEZONE
END:VCALENDAR