BEGIN:VCALENDAR
VERSION:2.0
PRODID:-//wp-events-plugin.com//7.2.3.1//EN
TZID:Europe/Warsaw
X-WR-TIMEZONE:Europe/Warsaw
BEGIN:VEVENT
UID:4894@night4u.pl
DTSTART;TZID=Europe/Warsaw:20190223T180000
DTEND;TZID=Europe/Warsaw:20190223T230000
DTSTAMP:20190122T193539Z
URL:https://night4u.pl/wydarzenia/hit-on-tube-2019/
SUMMARY:Hit On Tube 2019!
DESCRIPTION:Przed nami największa muzyczna przygoda z gwiazdami polskiego 
 YouTube’a! Niezapomniane wrażenia\, znane i uwielbiane hity Internetu N
 A ŻYWO\, gorące emocje\, twórcy polskiego YouTube’a w jednym miejscu.
 .. \n\nGotowi na prawdziwy muzyczny rollercoaster? NO TO JAZDA! Zapnijcie 
 pasy\, bo już 23 lutego 2019 w Centrum Koncertowym A2 we Wrocławiu odbę
 dzie się premierowa edycja muzycznej imprezy HIT ON TUBE 2019! Na scenie 
 wystąpią:\n\n?MAGDA BEREDA\n?CYBER MARIAN i KABARET CZWARTA FALA\n?LETNI
 \, CHAMSKI PODRYW\n?WOJTEK SZUMAŃSKI & MINT.\n\noraz… goście specjalni
  (NIESPODZIANKA!)\n\nPodczas HIT ON TUBE 2019:\n✔usłyszycie hity Intern
 etu NA ŻYWO\,\n✔przybijecie piąteczkę z polskimi YouTuberami\,\n✔zr
 obicie tyle fotek\, ile pomieści smartfon Wasz i Waszego kumpla\,\n✔za
 śpiewacie swoje ulubione piosenki\,\n✔przeżyjecie genialną przygodę 
 z niesamowitymi ludźmi!\n\nBilety w PRZEDSPRZEDAŻY (do 15.01.2019) dost
 ępne w aplikacji Going:\n- normalny: 79 zł\n- meet & greet: 139 zł\n\nB
 ilety w stałej cenie (po 15.01.2019) dostępne w aplikacji Going:\n- norm
 alny: 99 zł\n- meet & greet: 159 zł\n\nKUP BILET: https://bit.ly/2QHeHY0
ATTACH;FMTTYPE=image/jpeg:https://night4u.pl/wp-content/uploads/2019/01/15
 594_image_45577847_2180314308903623_7937617325610500096_n.png
CATEGORIES:dolnośląskie
LOCATION:A2 - Centrum Koncertowe\, Góralska 5\, Wroclaw\, 53-610\, Poland
GEO:51.108613;17.001703
X-APPLE-STRUCTURED-LOCATION;VALUE=URI;X-ADDRESS=Góralska 5\, Wroclaw\, 53-
 610\, Poland;X-APPLE-RADIUS=100;X-TITLE=A2 - Centrum Koncertowe:geo:51.108
 613,17.001703
END:VEVENT
BEGIN:VTIMEZONE
TZID:Europe/Warsaw
X-LIC-LOCATION:Europe/Warsaw
BEGIN:STANDARD
DTSTART:20181028T020000
TZOFFSETFROM:+0200
TZOFFSETTO:+0100
TZNAME:CET
END:STANDARD
END:VTIMEZONE
END:VCALENDAR