BEGIN:VCALENDAR
VERSION:2.0
PRODID:-//wp-events-plugin.com//7.2.3.1//EN
TZID:Europe/Warsaw
X-WR-TIMEZONE:Europe/Warsaw
BEGIN:VEVENT
UID:38884@night4u.pl
DTSTART;TZID=Europe/Warsaw:20191207T230000
DTEND;TZID=Europe/Warsaw:20191208T033000
DTSTAMP:20200401T080635Z
URL:https://night4u.pl/wydarzenia/ho-ho-ho-mikolajkowe-party-w-akademia-cl
 ub/
SUMMARY:Ho\, ho\, ho! Mikołajkowe Party w Akademia Club
DESCRIPTION:Ho\, ho\, ho! Mikołajkowe Party w Akademia Club\n07.12\, start
 : 23:00\nwjazd: Free\n\nDla wszystkich Mikołajów i pięknych Mikołajek 
 oraz innych Elfów - powitalne piwko na dobry wieczór! \n\nGdy Święty M
 ikołaj zakończy odwiedzanie grzecznych i niegrzecznych Dzieci\, tych ma
 łych i tych nieco większych\, gdy odeśpi już pracowity czas - przybęd
 zie w pełnym rynsztunku do Akademia CLUB. \n\nTego wieczoru - nie zabrakn
 ie największych świątecznych hitów wszech czasów\, za deckami bowiem 
 wierny pomocnik Świętego Mikołaja DVJ Sound Ball\, który rozgrzeje par
 kiet do czerwoności\, jak czerwone są nosy Reniferów Świętego Mikoła
 ja.\n\nZapraszamy na tańce\, hulańce i inne atrakcje! \nPrzebrania Świ
 ąteczne i Mikołajowe - wskazane!
ATTACH;FMTTYPE=image/jpeg:https://night4u.pl/wp-content/uploads/2019/12/11
 1939_image_79599668_2576602685791560_5366911293934534656_o.jpg
CATEGORIES:dolnośląskie
LOCATION:Akademia\, Grunwaldzka 67\, Wroclaw\, 50-357\, Poland
GEO:51.11448;17.06641
X-APPLE-STRUCTURED-LOCATION;VALUE=URI;X-ADDRESS=Grunwaldzka 67\, Wroclaw\, 
 50-357\, Poland;X-APPLE-RADIUS=100;X-TITLE=Akademia:geo:51.11448,17.06641
END:VEVENT
BEGIN:VTIMEZONE
TZID:Europe/Warsaw
X-LIC-LOCATION:Europe/Warsaw
BEGIN:STANDARD
DTSTART:20191027T020000
TZOFFSETFROM:+0200
TZOFFSETTO:+0100
TZNAME:CET
END:STANDARD
END:VTIMEZONE
END:VCALENDAR