BEGIN:VCALENDAR
VERSION:2.0
PRODID:-//wp-events-plugin.com//7.2.3.1//EN
TZID:Europe/Warsaw
X-WR-TIMEZONE:Europe/Warsaw
BEGIN:VEVENT
UID:30800@night4u.pl
DTSTART;TZID=Europe/Warsaw:20191012T210000
DTEND;TZID=Europe/Warsaw:20191013T060000
DTSTAMP:20191007T192010Z
URL:https://night4u.pl/wydarzenia/hola-senorita-sexy-models-show-%e2%9c%aa
 -sob-12-10/
SUMMARY:Hola Señorita - Sexy Models Show ✪ Sob. 12.10
DESCRIPTION:Dziewczyny - gotowe na gorące show?😎🔥\nSzykujcie się na
  sobotnią imprezę! \n\nUmięśnione torsy\, wyjątkowe i niepowtarzalne 
 stroje - specjalnie dla Was wystąpią tancerze\, którzy tańczą na najw
 iększych eventach w Europie!😍 \n--\nINFORMACJE\n📅 12.10 - SOBOTA\n
 🕘 Start: 21:00\n🔞 Selekcja: +18\n🎫 Wstęp: \nPanie - 15zł\nPanow
 ie - 20zł\nPanie do 22:00 - WSTĘP FREE\n📌 Katowice\, ul. Mickiewicza 
 4\, Galeria Skarbek (Rynek)\n--\nRESTAURACJA STREET FOOD 🌮 🍔\nPrzez 
 cały czas trwania imprezy czynna jest restauracja TACO LOCO STREET FOOD!\
 n--\nPROMOCJE\n🎂 Odprawimy Twoje urodziny!\nA także zorganizujemy:\n
 💃 Wieczór Panieński\n🕺 Wieczór Kawalerski\nRezerwacje od wtorku d
 o soboty od 13:00 do 21:00\n📱 536 901 907\n📧 mojaimpreza@pomaranczag
 roup.pl\n--\nREZERWACJA LOŻY\nRezerwacje loży online: https://klubpomara
 ncza.pl/katowice/rezerwacjalozy/\n--\nMUZYKA\nSALA KLUBOWA ▶ DC LUCK\, B
 ASE ATTACK\nSALA DANCE ▶ PAUL SECCO\nSALA CUBANA ▶ SITO\n--\nINSTAGRAM
 \nwww.instagram.com/pomarancza_katowice
ATTACH;FMTTYPE=image/jpeg:https://night4u.pl/wp-content/uploads/2019/10/71
 086_image_71644337_2745480325470971_2763368862891114496_o.jpg
CATEGORIES:śląskie
LOCATION:Klub Pomarańcza Katowice\, Mickiewicza 4\, Katowice\, 40-092\, Po
 land
GEO:50.25976;19.02082
X-APPLE-STRUCTURED-LOCATION;VALUE=URI;X-ADDRESS=Mickiewicza 4\, Katowice\, 
 40-092\, Poland;X-APPLE-RADIUS=100;X-TITLE=Klub Pomarańcza Katowice:geo:5
 0.25976,19.02082
END:VEVENT
BEGIN:VTIMEZONE
TZID:Europe/Warsaw
X-LIC-LOCATION:Europe/Warsaw
BEGIN:DAYLIGHT
DTSTART:20190331T030000
TZOFFSETFROM:+0100
TZOFFSETTO:+0200
TZNAME:CEST
END:DAYLIGHT
END:VTIMEZONE
END:VCALENDAR