BEGIN:VCALENDAR
VERSION:2.0
PRODID:-//wp-events-plugin.com//7.2.3.1//EN
TZID:Europe/Warsaw
X-WR-TIMEZONE:Europe/Warsaw
BEGIN:VEVENT
UID:19652@night4u.pl
DTSTART;TZID=Europe/Warsaw:20190818T140000
DTEND;TZID=Europe/Warsaw:20190818T200000
DTSTAMP:20190619T103446Z
URL:https://night4u.pl/wydarzenia/holi-festival-swieto-kolorow-w-gorzowie-
 wielkopolskim-2/
SUMMARY:Holi Festival - Święto Kolorów w Gorzowie Wielkopolskim
DESCRIPTION:Holi Festival Poland pojawi się po raz kolejny w Gorzowie Wiel
 kopolskim w ramach trasy Pokolorujmy Polskę Tour 2019! \n\nŚwięto Kolor
 ów odbędzie się w Gorzowie na Błoniach Nadwarciańskich już 18-go sie
 rpnia. Czas zapisać sobie tę datę w kalendarzu! Zbierz znajomych i weź
  udział w najbardziej kolorowej imprezie w tym roku! Ten dzień na pewno 
 na długo pozostanie w Waszych głowach!  ?‍♂?‍♀\n\nWstęp na Holi
  Festival jest bezpłatny! ?\n\nNa naszej imprezie czekać na Was będą:\
 n? Oryginalne kolorowe proszki Holi w 9-ciu kolorach!\n? DJ który poprowa
 dzi imprezę tak abyście nie mogli ustać  w miejscu!\n? Kolorowa wata cu
 krowa! \n? Kolorowe Granity\n? Wyrzutnie proszków Holi\n\nPoczuj magię k
 olorów Holi!\nObrzucaj się kolorowymi proszkami holi ze swoimi znajomymi
  i baw się wspólnie ze znajomymi przy muzyce naszych DJ-ów!\nKrótkie P
 odsumowanie\n➡ Data: 18 sierpnia 2019\n➡ Start: 14:00 Koniec 20:00\n
 ➡ Miejsce: Błonia Nadwarciańskie \n➡ Wstęp Bezpłatny\n\n❕❗UWAG
 A❗❕\nZgarnij darmowy pakiet proszków\n_____\nCo należy zrobić\n- Za
 proś wszystkich znajomych do wydarzenia (minimum 300 osób).\n- Udostępn
 ij wydarzenie na swojej tablicy.\n- Wrzuć screen na potwierdzenie na tabl
 icy wydarzenia!\nPierwsze 30 osób zgarnia 5 dowolnych kolorów Holi za da
 rmo!\n_____\n\n\nZe względów bezpieczeństwa na teren imprezy obowiązuj
 e zakaz wnoszenia własnych proszków.\n\nChcesz abyśmy odwiedzili Twoje 
 miasto? Napisz do nas na fanpage.\n\nZobacz też film z zeszłego roku:\nh
 ttps://www.facebook.com/HoliFestivalPoland/videos/1911512802456734/\n\nOdw
 iedź też naszą stronę internetową:\nhttp://www.holifestival.pl/
ATTACH;FMTTYPE=image/jpeg:https://night4u.pl/wp-content/uploads/2019/06/47
 340_image_64668472_2346170555657621_2594238866160353280_o.jpg
CATEGORIES:lubuskie
END:VEVENT
BEGIN:VTIMEZONE
TZID:Europe/Warsaw
X-LIC-LOCATION:Europe/Warsaw
BEGIN:DAYLIGHT
DTSTART:20190331T030000
TZOFFSETFROM:+0100
TZOFFSETTO:+0200
TZNAME:CEST
END:DAYLIGHT
END:VTIMEZONE
END:VCALENDAR