BEGIN:VCALENDAR
VERSION:2.0
PRODID:-//wp-events-plugin.com//7.2.3.1//EN
TZID:Europe/Warsaw
X-WR-TIMEZONE:Europe/Warsaw
BEGIN:VEVENT
UID:18302@night4u.pl
DTSTART;TZID=Europe/Warsaw:20190622T120000
DTEND;TZID=Europe/Warsaw:20190622T160000
DTSTAMP:20190605T161019Z
URL:https://night4u.pl/wydarzenia/holi-swieto-kolorow-w-pultusku-oficjalna
 -trasa/
SUMMARY:Holi Święto Kolorów w Pułtusku - oficjalna trasa
DESCRIPTION:Holi Święto Kolorów w ramach trasy Pokolorujmy Polskę Tour 
 2019 odwiedzi Pułtusk!\n\nŚwięto Kolorów odbędzie się na Plaży Miej
 skiej nad Narwią już 22-ego Czerwca. Czas zapisać sobie tę datę w kal
 endarzu! Zbierz znajomych i weź udział w najbardziej kolorowej imprezie 
 w tym roku! Ten dzień na pewno na długo pozostanie w Waszych głowach! ?
 ‍♂?‍♀\n\nWstęp na Holi Święto Kolorów jest bezpłatny! ?\n\nNa
  naszej imprezie czekać na Was będą:\n? Oryginalne kolorowe proszki Hol
 i w 9-ciu kolorach!\n? DJ który poprowadzi imprezę tak abyście nie mogl
 i ustać w miejscu!\n? Kolorowa wata cukrowa! \n? Kolorowe Granity\n? Wyrz
 utnie proszków Holi\n\nPoczuj magię kolorów Holi!\nObrzucaj się koloro
 wymi proszkami holi ze swoimi znajomymi i baw się wspólnie ze znajomymi 
 przy muzyce naszych DJ-ów!\n\nKrótkie Podsumowanie\n➡ Data: 22 Czerwca
  2019\n➡ Start: 12:00 Koniec: 16:00\n➡ Miejsce: Plaża Miejska nad Nar
 wią\, Pułtusk\n➡ Wstęp Bezpłatny\n\n❕❗UWAGA❗❕\nZgarnij darmo
 wy pakiet proszków\n_____\nCo należy zrobić\n- Zaproś wszystkich znajo
 mych do wydarzenia (minimum 300 osób).\n- Udostępnij wydarzenie na swoje
 j tablicy.\n- Wrzuć screen na potwierdzenie na tablicy wydarzenia!\nPierw
 sze 30 osób zgarnia 5 dowolnych kolorów Holi za darmo!\n_____\n\n\nZe wz
 ględów bezpieczeństwa na teren imprezy obowiązuje zakaz wnoszenia wła
 snych proszków.\n\nChcesz abyśmy odwiedzili Twoje miasto? Napisz do nas 
 na fanpage.\n\nZobacz też film z zeszłego roku:\nhttps://www.facebook.co
 m/HoliFestivalPoland/videos/1911512802456734/\n\nOdwiedź też naszą stro
 nę internetową:\nwww.swietoholi.pl/
ATTACH;FMTTYPE=image/jpeg:https://night4u.pl/wp-content/uploads/2019/06/44
 239_image_61592648_2335770020031008_3807964154057195520_o.jpg
CATEGORIES:mazowieckie
END:VEVENT
BEGIN:VTIMEZONE
TZID:Europe/Warsaw
X-LIC-LOCATION:Europe/Warsaw
BEGIN:DAYLIGHT
DTSTART:20190331T030000
TZOFFSETFROM:+0100
TZOFFSETTO:+0200
TZNAME:CEST
END:DAYLIGHT
END:VTIMEZONE
END:VCALENDAR