BEGIN:VCALENDAR
VERSION:2.0
PRODID:-//wp-events-plugin.com//7.2.3.1//EN
TZID:Europe/Warsaw
X-WR-TIMEZONE:Europe/Warsaw
BEGIN:VEVENT
UID:19442@night4u.pl
DTSTART;TZID=Europe/Warsaw:20190621T220000
DTEND;TZID=Europe/Warsaw:20190622T050000
DTSTAMP:20190615T024659Z
URL:https://night4u.pl/wydarzenia/holiday-club/
SUMMARY:Holiday Club
DESCRIPTION:Przyszedł już czas aby zaprosić Was do wakacyjnego klubu! To
  nie będzie zwykły piatek\, zaczynamy wakacyjny sezon\, opaska all inclu
 sive\, ulubione okulary\, hawajska koszula\, tańczymy!\n\n\nDJ PUNCHLINE\
 nSuoma\nRiko\n\nREZERWACJE:\nOliwia 504 989 948\nhttp://bit.ly/1NsNghc\n\n
 Start: 22.00\nwstęp:20 PLN\nkarty klubowe wejście FREE\, \nlista FB do 2
 3.00 wejście FREE*\nwstęp od 18 lat\nselekcja\n*wejście do klubu na lis
 tę fb jest jednorazowe w ciągu danej imprezy\, ponowny wstęp wiąże si
 ę z opłatą za wejście\, listę zamykamy o 21\n\n\nZAPRASZAMY!\n-------
 -------------------------------------------------\n\nENTRY\nESN CARDS FREE
  ENTRANCE ALL NIGHT LONG\nTickets  20 PLN\nClub cards - free entry all nig
 ht\nFacebook list - one-time free entrance from 10 pm to 11 pm (we close t
 he list at 9 pm\, so don’t forget to join the fb event before!)\nYou mus
 t be 18 years old to get in\n**selection - our club reserves the right to 
 deny entry at selector discretion.\n\nFOR TABLE RESERVATIONS PLEASE RSVP A
 T :\nOliwia 504 989 948\nhttp://bit.ly/1NsNghc\n\nStart: 10 pm
ATTACH;FMTTYPE=image/jpeg:https://night4u.pl/wp-content/uploads/2019/06/46
 865_image_64241032_2805971479419927_7010549193114648576_n.jpg
CATEGORIES:wielkopolskie
LOCATION:Klub Czekolada Poznań\, Poznan\, Poland
GEO:52.40609;16.93264
X-APPLE-STRUCTURED-LOCATION;VALUE=URI;X-ADDRESS=Poznan\, Poland;X-APPLE-RAD
 IUS=100;X-TITLE=Klub Czekolada Poznań:geo:52.40609,16.93264
END:VEVENT
BEGIN:VTIMEZONE
TZID:Europe/Warsaw
X-LIC-LOCATION:Europe/Warsaw
BEGIN:DAYLIGHT
DTSTART:20190331T030000
TZOFFSETFROM:+0100
TZOFFSETTO:+0200
TZNAME:CEST
END:DAYLIGHT
END:VTIMEZONE
END:VCALENDAR