BEGIN:VCALENDAR
VERSION:2.0
PRODID:-//wp-events-plugin.com//7.2.3.1//EN
TZID:Europe/Warsaw
X-WR-TIMEZONE:Europe/Warsaw
BEGIN:VEVENT
UID:34248@night4u.pl
DTSTART;TZID=Europe/Warsaw:20191031T220100
DTEND;TZID=Europe/Warsaw:20191101T070000
DTSTAMP:20200401T081518Z
URL:https://night4u.pl/wydarzenia/horrorween-ladies-night-najstraszniejsza
 -impreza-w-boat-city/
SUMMARY:Horrorween &amp\; Ladies Night | najstraszniejsza impreza w Boat Ci
 ty
DESCRIPTION:Dom strachu to przy nas wesołe miasteczko\, \nNajstraszniejsza
  impreza w mieście nadchodzi! \nZa trumną: Roko | Karpyou &amp\; Pesos S
 ax \nOPEN BAR 4 LADIES: 22:01-00:00\n\n31.10.2019r czwartek\nstart 22:01 \
 nul. Piotrkowska 102\nInformacje &amp\; Rezerwacje +48662366366\n\nWejści
 e:\nPanie 10PLN\nPanowie 20PLN\nPrzebrani: Free &amp\; welcome drink do p
 ółnocy
ATTACH;FMTTYPE=image/jpeg:https://night4u.pl/wp-content/uploads/2019/10/87
 933_image_76619861_2773878629289914_6162433649124835328_o.jpg
CATEGORIES:łódzkie
LOCATION:Lordi's Club\, Piotrkowska 102\, Łódź\, 90-010\, Poland
GEO:51.765169;19.45859
X-APPLE-STRUCTURED-LOCATION;VALUE=URI;X-ADDRESS=Piotrkowska 102\, Łódź\,
  90-010\, Poland;X-APPLE-RADIUS=100;X-TITLE=Lordi's Club:geo:51.765169,19.
 45859
END:VEVENT
BEGIN:VTIMEZONE
TZID:Europe/Warsaw
X-LIC-LOCATION:Europe/Warsaw
BEGIN:STANDARD
DTSTART:20191027T020000
TZOFFSETFROM:+0200
TZOFFSETTO:+0100
TZNAME:CET
END:STANDARD
END:VTIMEZONE
END:VCALENDAR