BEGIN:VCALENDAR
VERSION:2.0
PRODID:-//wp-events-plugin.com//7.2.3.1//EN
TZID:Europe/Warsaw
X-WR-TIMEZONE:Europe/Warsaw
BEGIN:VEVENT
UID:42995@night4u.pl
DTSTART;TZID=Europe/Warsaw:20200118T210000
DTEND;TZID=Europe/Warsaw:20200119T000000
DTSTAMP:20200331T192125Z
URL:https://night4u.pl/wydarzenia/hot-lanta-live-part-2-at-the-awaria-sat-
 january-18-2020-9-pm/
SUMMARY:Hot 'Lanta Live Part 2 at the Awaria Sat January 18.2020 9 PM
DESCRIPTION:Zapraszamy w najbliższą sobotę \,18.01 do klubu Awaria na ko
 ncert HOT "LANTA Southern Band. Generalnie dźwięki rockbluesowe spod zna
 ku Allman Brothers i Lynyrd Skynyrd. \nWpadajcie. Zapraszamy!!!
ATTACH;FMTTYPE=image/jpeg:https://night4u.pl/wp-content/uploads/2020/01/13
 7029_image_82710868_475653139813055_4129303372236849152_o.jpg
CATEGORIES:małopolskie
LOCATION:Klub Awaria\, Mikołajska 9\, Kraków\, 31-027\, Poland
GEO:50.06133;19.94207
X-APPLE-STRUCTURED-LOCATION;VALUE=URI;X-ADDRESS=Mikołajska 9\, Kraków\, 3
 1-027\, Poland;X-APPLE-RADIUS=100;X-TITLE=Klub Awaria:geo:50.06133,19.9420
 7
END:VEVENT
BEGIN:VTIMEZONE
TZID:Europe/Warsaw
X-LIC-LOCATION:Europe/Warsaw
BEGIN:STANDARD
DTSTART:20191027T020000
TZOFFSETFROM:+0200
TZOFFSETTO:+0100
TZNAME:CET
END:STANDARD
END:VTIMEZONE
END:VCALENDAR