BEGIN:VCALENDAR
VERSION:2.0
PRODID:-//wp-events-plugin.com//7.2.3.1//EN
TZID:Europe/Warsaw
X-WR-TIMEZONE:Europe/Warsaw
BEGIN:VEVENT
UID:19685@night4u.pl
DTSTART;TZID=Europe/Warsaw:20190619T173000
DTEND;TZID=Europe/Warsaw:20190619T193000
DTSTAMP:20190619T105935Z
URL:https://night4u.pl/wydarzenia/hot-rock-koncert-finalowy-uczniow-i-nauc
 zycieli-szkoly-rocka/
SUMMARY:Hot Rock koncert finałowy Uczniów i Nauczycieli Szkoły Rocka
DESCRIPTION:Zapraszamy na gorący koncert kończący rok szkolny 2018/19. \
 nZagramy gorące hity takich zespołów jak: Iron Maiden\, Arctic Monkeys\
 , Black Sabbath\, Queen\, Whitesnake\, Metallica\, Guns N’ Roses\, Dire 
 Straits\, Pink Floyd\, AC/DC.\nWstęp wolny\, miejsca dużo\, przybywajcie
  :)
ATTACH;FMTTYPE=image/jpeg:https://night4u.pl/wp-content/uploads/2019/06/47
 422_image_64438548_2319843078061826_6203131427781869568_n.jpg
CATEGORIES:lubelskie
LOCATION:Klub Studencki Kazik\, ul. Nadbystrzycka 40A\, Lublin\, 20-618\, P
 oland
GEO:51.235135;22.547241
X-APPLE-STRUCTURED-LOCATION;VALUE=URI;X-ADDRESS=ul. Nadbystrzycka 40A\, Lub
 lin\, 20-618\, Poland;X-APPLE-RADIUS=100;X-TITLE=Klub Studencki Kazik:geo:
 51.235135,22.547241
END:VEVENT
BEGIN:VTIMEZONE
TZID:Europe/Warsaw
X-LIC-LOCATION:Europe/Warsaw
BEGIN:DAYLIGHT
DTSTART:20190331T030000
TZOFFSETFROM:+0100
TZOFFSETTO:+0200
TZNAME:CEST
END:DAYLIGHT
END:VTIMEZONE
END:VCALENDAR