BEGIN:VCALENDAR
VERSION:2.0
PRODID:-//wp-events-plugin.com//7.2.3.1//EN
TZID:Europe/Warsaw
X-WR-TIMEZONE:Europe/Warsaw
BEGIN:VEVENT
UID:38713@night4u.pl
DTSTART;TZID=Europe/Warsaw:20191207T220000
DTEND;TZID=Europe/Warsaw:20191208T050000
DTSTAMP:20191208T002905Z
URL:https://night4u.pl/wydarzenia/hotter-than-december-x-dj-seli-x-sobota-
 7-12/
SUMMARY:Hotter than December x dj Seli x sobota 7.12
DESCRIPTION:❄️ Pogoda za oknem\, że aż odechciewa się wszystkiego. N
 a szczęście w sobotę w Wysokich będzie goręcej niż kiedykolwiek  
 😎😎\n\n❄️ Najlepsza muzyka\, nasze klimatyczne patio\, hektolitry
  trunków i oczywiście Wy....przepis idealny🔝🔝\n\n❄️Stery d'jki
  przejmuje Dj Seli\, a historia naszego klubu pokazuje że ten Pan potrafi
  świetnie rozgrzać atmosferę 🌞🌞\n\n🕙 Start 22:00 🕙\nwstęp 
 / ze względu na komfort i bezpieczeństwo naszych gości zastrzegamy sobi
 e prawo do selekcji\n\n❄️Rezerwacje ☎️602 748 814☎️\n\n🖤
 💛Do zobaczenia w Wysokich💛🖤
ATTACH;FMTTYPE=image/jpeg:https://night4u.pl/wp-content/uploads/2019/12/11
 1164_image_78798291_2527804867496426_7688257236711243776_o.jpg
CATEGORIES:podlaskie
LOCATION:Wysokie Tony\, Marii Skłodowskiej Curie 2\, Białystok\, 15-097\,
  Poland
GEO:53.12982;23.15624
X-APPLE-STRUCTURED-LOCATION;VALUE=URI;X-ADDRESS=Marii Skłodowskiej Curie 2
 \, Białystok\, 15-097\, Poland;X-APPLE-RADIUS=100;X-TITLE=Wysokie Tony:ge
 o:53.12982,23.15624
END:VEVENT
BEGIN:VTIMEZONE
TZID:Europe/Warsaw
X-LIC-LOCATION:Europe/Warsaw
BEGIN:STANDARD
DTSTART:20191027T020000
TZOFFSETFROM:+0200
TZOFFSETTO:+0100
TZNAME:CET
END:STANDARD
END:VTIMEZONE
END:VCALENDAR