BEGIN:VCALENDAR
VERSION:2.0
PRODID:-//wp-events-plugin.com//7.2.3.1//EN
TZID:Europe/Warsaw
X-WR-TIMEZONE:Europe/Warsaw
BEGIN:VEVENT
UID:23893@night4u.pl
DTSTART;TZID=Europe/Warsaw:20190810T220000
DTEND;TZID=Europe/Warsaw:20190811T050000
DTSTAMP:20190802T113327Z
URL:https://night4u.pl/wydarzenia/house-at-night-fakto-sobota-10-08/
SUMMARY:House at Night: Fakto // Sobota :: 10.08
DESCRIPTION:W sobotę 10 sierpnia zapraszamy na kolejną edycję imprezy HO
 USE AT NIGHT.\n\nDJ: Fakto / Kriss\n\nStart: 22:00\nDress code: SMART CASU
 AL\nBilety: 20 PLN\nWstęp:\n★ Panie od 20 lat\n★ Panowie od 23 lat\nW
  klubie obowiązuje selekcja\n________________________\nGRAND CLUB\nul. Ko
 ściuszki 9\, Rzeszów \nTel. (017) 853 30 35\nwww.grandclub.pl #grandclub
  #rzeszow #grandrzeszow
ATTACH;FMTTYPE=image/jpeg:https://night4u.pl/wp-content/uploads/2019/08/56
 353_image_67427011_2648360161849253_622423989066661888_o.jpg
CATEGORIES:podkarpackie
LOCATION:Grand Club\, ul. Kościuszki 9\, Rzeszów\, 35-030\, Poland
GEO:50.03742;22.00255
X-APPLE-STRUCTURED-LOCATION;VALUE=URI;X-ADDRESS=ul. Kościuszki 9\, Rzeszó
 w\, 35-030\, Poland;X-APPLE-RADIUS=100;X-TITLE=Grand Club:geo:50.03742,22.
 00255
END:VEVENT
BEGIN:VTIMEZONE
TZID:Europe/Warsaw
X-LIC-LOCATION:Europe/Warsaw
BEGIN:DAYLIGHT
DTSTART:20190331T030000
TZOFFSETFROM:+0100
TZOFFSETTO:+0200
TZNAME:CEST
END:DAYLIGHT
END:VTIMEZONE
END:VCALENDAR