BEGIN:VCALENDAR
VERSION:2.0
PRODID:-//wp-events-plugin.com//7.2.3.1//EN
TZID:Europe/Warsaw
X-WR-TIMEZONE:Europe/Warsaw
BEGIN:VEVENT
UID:14498@night4u.pl
DTSTART;TZID=Europe/Warsaw:20190511T210000
DTEND;TZID=Europe/Warsaw:20190512T050000
DTSTAMP:20190430T144339Z
URL:https://night4u.pl/wydarzenia/house-every-weekend-vol-7-11-05-lista-fb
 -free/
SUMMARY:House Every Weekend vol.7! // 11.05 // Lista FB Free!
DESCRIPTION:"House Every Weekend" to impreza poświęcona muzyce house w ka
 żdej odmianie\, od inspiracji brzmieniami Afryki\, przez Kubę i Bałkany
  po tradycyjny deep i tech house. Z wrodzoną nam skromnością mówimy\, 
 iż możecie być pewni\, że będzie to najlepsza impreza w mieście!\n\n
 NRD KLUB\nul. Browarna 6\nToruń\n\nData: 11.05.2019 (Sobota)\nStart: 21:0
 0\n\nWjazd:\nLista FB FREE*\nPozostali 10 zł\n\nTego dnia wpadną do nas 
 Przelotem i zagrają Kemot oraz Kowalka!\n\n*Listę klasycznie zamykamy w 
 dniu imprezy o 17. Ważna jest do 23!\n** Wstęp dla osób pełnoletnich. 
 Obowiązuje regulamin klubu oraz selekcja.
ATTACH;FMTTYPE=image/jpeg:https://night4u.pl/wp-content/uploads/2019/04/36
 072_image_58926191_2091264350921594_9139782631720747008_o.jpg
CATEGORIES:kujawsko-pomorskie
LOCATION:NRD Klub\, Browarna 6\, Torun\, 87-100\, Poland
GEO:53.011128;18.612081
X-APPLE-STRUCTURED-LOCATION;VALUE=URI;X-ADDRESS=Browarna 6\, Torun\, 87-100
 \, Poland;X-APPLE-RADIUS=100;X-TITLE=NRD Klub:geo:53.011128,18.612081
END:VEVENT
BEGIN:VTIMEZONE
TZID:Europe/Warsaw
X-LIC-LOCATION:Europe/Warsaw
BEGIN:DAYLIGHT
DTSTART:20190331T030000
TZOFFSETFROM:+0100
TZOFFSETTO:+0200
TZNAME:CEST
END:DAYLIGHT
END:VTIMEZONE
END:VCALENDAR