BEGIN:VCALENDAR
VERSION:2.0
PRODID:-//wp-events-plugin.com//7.2.3.1//EN
TZID:Europe/Warsaw
X-WR-TIMEZONE:Europe/Warsaw
BEGIN:VEVENT
UID:6693@night4u.pl
DTSTART;TZID=Europe/Warsaw:20190208T210000
DTEND;TZID=Europe/Warsaw:20190209T040000
DTSTAMP:20190207T103624Z
URL:https://night4u.pl/wydarzenia/house-party-hard-in-square/
SUMMARY:House Party Hard ! in Square
DESCRIPTION:Za sterami\, specjalnie dla Was\, DJ CUE rozkręci niesamowitą
  imprezę. \n\nZapraszamy wszystkich na nocną potańcówkę R'n'B & House
  Music.\n\n\nKlub zastrzega sobie prawo do selekcji gości.\nButy do biega
 nia zostaw w domu \;)
ATTACH;FMTTYPE=image/jpeg:https://night4u.pl/wp-content/uploads/2019/02/19
 600_image_51440198_2165931886804395_6393791094840098816_o.jpg
CATEGORIES:małopolskie
LOCATION:The Square Club\, pl. Szczepański 7\, Kraków\, 31-011\, Poland
GEO:50.06419;19.93577
X-APPLE-STRUCTURED-LOCATION;VALUE=URI;X-ADDRESS=pl. Szczepański 7\, Krakó
 w\, 31-011\, Poland;X-APPLE-RADIUS=100;X-TITLE=The Square Club:geo:50.0641
 9,19.93577
END:VEVENT
BEGIN:VTIMEZONE
TZID:Europe/Warsaw
X-LIC-LOCATION:Europe/Warsaw
BEGIN:STANDARD
DTSTART:20181028T020000
TZOFFSETFROM:+0200
TZOFFSETTO:+0100
TZNAME:CET
END:STANDARD
END:VTIMEZONE
END:VCALENDAR