BEGIN:VCALENDAR
VERSION:2.0
PRODID:-//wp-events-plugin.com//7.2.3.1//EN
TZID:Europe/Warsaw
X-WR-TIMEZONE:Europe/Warsaw
BEGIN:VEVENT
UID:48328@night4u.pl
DTSTART;TZID=Europe/Warsaw:20200229T220000
DTEND;TZID=Europe/Warsaw:20200301T050000
DTSTAMP:20200229T184202Z
URL:https://night4u.pl/wydarzenia/house-party-runmageddon-zaks/
SUMMARY:House party Runmageddon | Zaks
DESCRIPTION:Szykujcie wygodne buty i fajne ciuszki\, bo do Pokoju nr 13 zaw
 ita impreza rodem z American Pie i Project X. Ale uwaga! Tym razem ugości
 my też niestrudzonych biegaczy na jedynym\, oficjalnym afterparty po Runm
 ageddonie! \nAnd those guys know How to partyyyyy.... 😎 \n\nWelcome dri
 nki zapewni nam Red Bull a o muzyczną oprawę sobotniej imprezy zadba Zak
 s! Wpadajcie na domóweczkę w niepowtarzalnym stylu\, gdzie wszyscy gośc
 ie czują się jak u siebie! \n\nStart 22:13\nWstęp:\n20 PLN\nLista FB Fr
 ee do 0:13\nSelekcja\nWjazd + drink: FREE na hasło RUNMAGEDDON lub za oka
 zaniem bandany finishera\nDress code: smart casual\n\nPatronat Medialny:\n
 Radio ESKA\n\nREZERWACJE \n732 538 638 \ninfo@room13.pl\n_________________
 _____\n\nwww.room13.pl\nfb.com/room13club\ninstagram.com/room13club
ATTACH;FMTTYPE=image/jpeg:https://night4u.pl/wp-content/uploads/2020/02/16
 4732_image_87296231_3084623564894680_7006582219586142208_o.jpg
CATEGORIES:mazowieckie
END:VEVENT
BEGIN:VTIMEZONE
TZID:Europe/Warsaw
X-LIC-LOCATION:Europe/Warsaw
BEGIN:STANDARD
DTSTART:20191027T020000
TZOFFSETFROM:+0200
TZOFFSETTO:+0100
TZNAME:CET
END:STANDARD
END:VTIMEZONE
END:VCALENDAR