BEGIN:VCALENDAR
VERSION:2.0
PRODID:-//wp-events-plugin.com//7.2.3.1//EN
TZID:Europe/Warsaw
X-WR-TIMEZONE:Europe/Warsaw
BEGIN:VEVENT
UID:23018@night4u.pl
DTSTART;TZID=Europe/Warsaw:20190725T190000
DTEND;TZID=Europe/Warsaw:20190726T000000
DTSTAMP:20190724T175814Z
URL:https://night4u.pl/wydarzenia/huczne-karaoke/
SUMMARY:Huczne Karaoke
DESCRIPTION:Każdy CZWARTEK od 19:00 - karaoke w Końcu ?❤️\nŚpiewanie
  w Końcu nie zna granic⭐\nNa łowców okazji\, w barze\, czeka szeroki 
 wybór ofert specjalnych\n⏩ dla KAŻDEGO kto zdobędzie na mieście ulot
 kę na powitanie baniaczek a nawet DWA ⭐\nPokaż na co Cię stać ?❤
 ️
ATTACH;FMTTYPE=image/jpeg:https://night4u.pl/wp-content/uploads/2019/07/54
 386_image_67404388_2832170390130451_8288264855157211136_o.jpg
CATEGORIES:lubelskie
LOCATION:Pub Koniec\, Nadbystrzycka 20B\, Lublin\, 20-618\, Poland
GEO:51.237669;22.551421
X-APPLE-STRUCTURED-LOCATION;VALUE=URI;X-ADDRESS=Nadbystrzycka 20B\, Lublin\
 , 20-618\, Poland;X-APPLE-RADIUS=100;X-TITLE=Pub Koniec:geo:51.237669,22.5
 51421
END:VEVENT
BEGIN:VTIMEZONE
TZID:Europe/Warsaw
X-LIC-LOCATION:Europe/Warsaw
BEGIN:DAYLIGHT
DTSTART:20190331T030000
TZOFFSETFROM:+0100
TZOFFSETTO:+0200
TZNAME:CEST
END:DAYLIGHT
END:VTIMEZONE
END:VCALENDAR