BEGIN:VCALENDAR
VERSION:2.0
PRODID:-//wp-events-plugin.com//7.2.3.1//EN
TZID:Europe/Warsaw
X-WR-TIMEZONE:Europe/Warsaw
BEGIN:VEVENT
UID:40447@night4u.pl
DTSTART;TZID=Europe/Warsaw:20191225T220000
DTEND;TZID=Europe/Warsaw:20191226T040000
DTSTAMP:20191226T002624Z
URL:https://night4u.pl/wydarzenia/huinka-2019-%e2%99%a7-efebo-krawiec-zura
 /
SUMMARY:Huinka 2019 ♧ Efebo Krawiec Zura
DESCRIPTION:Gdy Kevin sam w domu a karpia jest łazienka\,\nHuinka się chw
 ieje - pijana to panienka\nPrzybierzcie do Domu Kultury kolędnicy\,\nUpod
 lim się jak co roku w ciemnej piwnicy.\nDidżeje coś tam posmęcą\, pot
 em znów padną pod stół\,\nKto nie da rady całego\, niech pije 2 razy 
 pół.\n\nHuinka to tradycja : przy tradycyjnym stole z winylami staną \n
 Zura (Soul service)\nEfebo (Sambasim)\nKrawiec (Ckliwe Zgredy) \n\nstart 2
 2/ fb free 23/ bilet 15/20 \nwstęp 21 lat
ATTACH;FMTTYPE=image/jpeg:https://night4u.pl/wp-content/uploads/2019/12/12
 2201_image_80606309_2794542593945026_4231849869662224384_o.jpg
CATEGORIES:lubelskie
LOCATION:Dom Kultury\, ul. Krakowskie Przedmieście 19\, Lublin\, 20-002\, 
 Poland
GEO:51.24787;22.56342
X-APPLE-STRUCTURED-LOCATION;VALUE=URI;X-ADDRESS=ul. Krakowskie Przedmieści
 e 19\, Lublin\, 20-002\, Poland;X-APPLE-RADIUS=100;X-TITLE=Dom Kultury:geo
 :51.24787,22.56342
END:VEVENT
BEGIN:VTIMEZONE
TZID:Europe/Warsaw
X-LIC-LOCATION:Europe/Warsaw
BEGIN:STANDARD
DTSTART:20191027T020000
TZOFFSETFROM:+0200
TZOFFSETTO:+0100
TZNAME:CET
END:STANDARD
END:VTIMEZONE
END:VCALENDAR