BEGIN:VCALENDAR
VERSION:2.0
PRODID:-//wp-events-plugin.com//7.2.3.1//EN
TZID:Europe/Warsaw
X-WR-TIMEZONE:Europe/Warsaw
BEGIN:VEVENT
UID:38486@night4u.pl
DTSTART;TZID=Europe/Warsaw:20210425T200000
DTEND;TZID=Europe/Warsaw:20210425T230000
DTSTAMP:20210422T213729Z
URL:https://night4u.pl/wydarzenia/hungarica-wroclaw-alive/
SUMMARY:Hungarica - Wrocław / Alive
DESCRIPTION:25.04.2021 (niedziela)\nHungarica\nBramka 19:00\nStart 20:00\n\
 nBILETY:\n30 zł (przedsprzedaż w klubie)\n40 zł (w dniu koncertu)\n\n**
 *\n\nZespół Hungarica powstał w 2006 roku z inicjatywy gitarzysty Norbe
 rta Mentesa\, który w roku 1981 znalazł się pośród członków-założ
 ycieli Moby Dick - jednej z najpopularniejszych węgierskich grup rockowyc
 h działających po dziś dzień. W ubiegłych latach Hungarica nagrywała
  utwory wespół z największymi legendami węgierskiej i polskiej sceny m
 uzycznej: z Andrzejem Nowakiem (TSA\, ZŁE PSY oficjalna strona\, Pawłem 
 Mąciwodą (Scorpions) oraz Grzegorzem Kupczykiem (CETI\, ex - Turbo (ofic
 jalny profil zespołu).\n\nFB: \nhttps://www.facebook.com/hungarica/\n\nYT
 :\nhttps://www.youtube.com/watch?v=kkwo-OEZEig
ATTACH;FMTTYPE=image/jpeg:https://night4u.pl/wp-content/uploads/2021/04/10
 9949_image_118711931_3283374925071955_938618986523743796_n.jpg
CATEGORIES:dolnośląskie
LOCATION:Alive\, ul. Kolejowa 12\, Wroclaw\, 53-508\, Poland
GEO:51.10138;17.02286
X-APPLE-STRUCTURED-LOCATION;VALUE=URI;X-ADDRESS=ul. Kolejowa 12\, Wroclaw\,
  53-508\, Poland;X-APPLE-RADIUS=100;X-TITLE=Alive:geo:51.10138,17.02286
END:VEVENT
BEGIN:VTIMEZONE
TZID:Europe/Warsaw
X-LIC-LOCATION:Europe/Warsaw
BEGIN:DAYLIGHT
DTSTART:20210328T030000
TZOFFSETFROM:+0100
TZOFFSETTO:+0200
TZNAME:CEST
END:DAYLIGHT
END:VTIMEZONE
END:VCALENDAR