BEGIN:VCALENDAR
VERSION:2.0
PRODID:-//wp-events-plugin.com//7.2.3.1//EN
TZID:Europe/Warsaw
X-WR-TIMEZONE:Europe/Warsaw
BEGIN:VEVENT
UID:6824@night4u.pl
DTSTART;TZID=Europe/Warsaw:20190316T190000
DTEND;TZID=Europe/Warsaw:20190316T220000
DTSTAMP:20190210T152442Z
URL:https://night4u.pl/wydarzenia/hunter-reload-wroclaw-stary-klasztor-16-
 03-2019/
SUMMARY:Hunter + Reload / Wrocław / Stary Klasztor / 16.03.2019
DESCRIPTION:Otwarcie: 18.00\nStart: 19.00 \nbilety: 40 zł  - 100 szt. wył
 ącznie rezerwacje: bilety@o2.pl\, 45 zł - przedsprzedaż\, 50 zł - w dn
 iu koncertu\nmiejsca siedzące ( balkon): 60 zł\n\nSupport: RELOAD\nHunte
 r - trasa koncertowa promująca nową płytę zespołu!\n\nO NOWEJ PŁYCIE
 : \nTym razem zabierzemy Was w surrealistyczną podróż do pewnego sekret
 nego miejsca. I poprowadzimy w najgłębsze jego zakamarki. Miejsca zawies
 zonego pomiędzy niebem a piekłem\, będącego jednak również odbiciem 
 rzeczywistości\, w której żyjemy. Fascynującego i przerażającego zar
 azem. Znajdziecie w nim miłość i nienawiść\, krzyk i szept\, ciepło 
 i chłód\, dobro i zło. Utkanego z dźwięków i słów\, metaforycznych
  postaci i reminiscencji. Bytów realnych i wielowymiarowych. Zabawnych i 
 strasznych. Postaci anielskich i prawdziwych potworów. Do miejsca nadziei
  i bezlitosnego jej braku. Gdzie sen przeplata się z jawą a strach niezm
 iennie wyciąga ku nam swoje szpony. Zawsze gotowy. Zawsze blisko. Zabierz
 emy Was w podróż w głąb siebie... PREMIERA JUŻ W MARCU!\n\nHunter to 
 polski zespół wykonujący muzykę z pogranicza rocka i metalu\, z wpleci
 onymi elementami muzyki klasycznej i filmowej. W ciągu 33 lat istnienia z
 yskał status legendy\, wydał 7 płyt studyjnych oraz 4 albumy koncertowe
 . Zespół kieruje swoje dźwięki i słowa przeciw wojnie\, przemocy\, ni
 etolerancji i głupocie. Wydawnictwa Huntera zdobywały szerokie uznanie w
  branży muzycznej (wielokrotnie nominacje do Fryderyków) oraz publiczno
 ści (Złoty Bączek\, liczne wyróżnienia w plebiscytach pism muzycznych
 )\, a albumy „Królestwo” i „Imperium” zyskały statusy złotych p
 łyt. Wizytówką Huntera jest niepowtarzalny klimat\, wieloznaczność\, 
 metafory\, przedziwne dźwięki i gry słowne\, niespotykane instrumenty\,
  czy bogate scenografie i ilustrujący muzykę i słowa show podczas konce
 rtów.\n\nhttps://www.facebook.com/HUNTER.Oficjalna.Strona.Zespolu/\nhttp:
 //www.huntersoulmetal.pl \nhttps://www.youtube.com/user/huntersoulmetal\nh
 ttps://www.instagram.com/hunterbandpoland/\n\nBilety dostępne w sieci sal
 onów Empik i MediaMarkt w całej Polsce\noraz w serwisach: www.staryklasz
 tor.com.pl/bilety/\, www.biletin.pl\, www.biletyna.pl\, www.eventim.pl\, w
 ww.ebilet.pl\, www.kupbilecik.pl\, www.empikbilety.pl \nrezerwacje: bilety
 @o2.pl\n\nUwaga\, kupuj bilety wyłącznie w autoryzowanych punktach! \nZa
 kup biletów poza autoryzowanymi punktami sprzedaży (Facebook\, aukcje in
 ternetowe\, systemy odsprzedaży biletów itp.) stwarza ryzyko zakupu bile
 tów nieoryginalnych lub nieważnych\, które nie umożliwią wejścia na 
 koncert.
ATTACH;FMTTYPE=image/jpeg:https://night4u.pl/wp-content/uploads/2019/02/19
 932_image_50778284_2439149889445918_441350349710688256_n.jpg
CATEGORIES:dolnośląskie
LOCATION:Stary Klasztor\, Purkyniego 1\, Wroclaw\, 50-155\, Poland
GEO:51.110198;17.039162
X-APPLE-STRUCTURED-LOCATION;VALUE=URI;X-ADDRESS=Purkyniego 1\, Wroclaw\, 50
 -155\, Poland;X-APPLE-RADIUS=100;X-TITLE=Stary Klasztor:geo:51.110198,17.0
 39162
END:VEVENT
BEGIN:VTIMEZONE
TZID:Europe/Warsaw
X-LIC-LOCATION:Europe/Warsaw
BEGIN:STANDARD
DTSTART:20181028T020000
TZOFFSETFROM:+0200
TZOFFSETTO:+0100
TZNAME:CET
END:STANDARD
END:VTIMEZONE
END:VCALENDAR