BEGIN:VCALENDAR
VERSION:2.0
PRODID:-//wp-events-plugin.com//7.2.3.1//EN
TZID:Europe/Warsaw
X-WR-TIMEZONE:Europe/Warsaw
BEGIN:VEVENT
UID:32616@night4u.pl
DTSTART;TZID=Europe/Warsaw:20191025T220000
DTEND;TZID=Europe/Warsaw:20191026T050000
DTSTAMP:20191018T105725Z
URL:https://night4u.pl/wydarzenia/huxley-x-proznosc-25-10/
SUMMARY:Huxley x Próżność | 25.10
DESCRIPTION:Co mają wspólnego #Rudimental\, #GorgonCity i #BasementJaxx? 
 Poza tym\, że robią świetną muzę\, wszyscy ci artyści poddali się r
 emikserskim talentom Huxleya\, czyli naszego kolejnego gościa! Odwiedź P
 różność 25 października i zobacz jednego z najbardziej utalentowanych
  producentów i DJ-ów ostatniej dekady💥\n\nHuxley słynie z porywając
 ych setów i genialnych produkcji\, które wydają najważniejsze wytwórn
 ie na świecie: od Knee Deep In Sound\, której właścicielem jest Hot Si
 nce 82\, przez Toolroom Marka Knighta\, aż po Moon Harbour Matthiasa Tanz
 manna.\n\nInnymi słowy: rezerwuj datę i zbieraj formę\, bo zatańczymy!
  😎\n\n✨Sala Lustrzana:\nHuxley\nDisco Teddy\n \n✨Sala Szampańska:\
 nMarka Własna | Simo&amp\;Biskup\n\n✨WEJŚCIE:\n🔑 - wstęp free\nLis
 ta FB do 23 wstęp free\nPozostali goście - 20 PLN\n\nRezerwacje loży - 
 +48506203214
ATTACH;FMTTYPE=image/jpeg:https://night4u.pl/wp-content/uploads/2019/10/79
 067_image_72449099_494418947956101_3940007713777385472_o.jpg
CATEGORIES:wielkopolskie
LOCATION:Próżność\, Niepodległości 8a\, Poznan\, 61-875\, Poland
GEO:52.405584;16.91872
X-APPLE-STRUCTURED-LOCATION;VALUE=URI;X-ADDRESS=Niepodległości 8a\, Pozna
 n\, 61-875\, Poland;X-APPLE-RADIUS=100;X-TITLE=Próżność:geo:52.405584,
 16.91872
END:VEVENT
BEGIN:VTIMEZONE
TZID:Europe/Warsaw
X-LIC-LOCATION:Europe/Warsaw
BEGIN:DAYLIGHT
DTSTART:20190331T030000
TZOFFSETFROM:+0100
TZOFFSETTO:+0200
TZNAME:CEST
END:DAYLIGHT
END:VTIMEZONE
END:VCALENDAR