BEGIN:VCALENDAR
VERSION:2.0
PRODID:-//wp-events-plugin.com//7.2.3.1//EN
TZID:Europe/Warsaw
X-WR-TIMEZONE:Europe/Warsaw
BEGIN:VEVENT
UID:42562@night4u.pl
DTSTART;TZID=Europe/Warsaw:20200314T220000
DTEND;TZID=Europe/Warsaw:20200315T050000
DTSTAMP:20200311T180058Z
URL:https://night4u.pl/wydarzenia/hype/
SUMMARY:HYPE | Skytech Open To Close Set
DESCRIPTION:Can you feel the #HYPE?\n\nGuest DJ: Skytech \nSala R'n'B: Sok
 ół\nSala Latino: Domi\n\nPanie do 23:00 wchodzą za FREE!\nKarty Klubowe
  wstęp FREE!\nZapisz się na listę gości http://www.pachapoznan.com/ -&
 gt\; Imprezy -&gt\; przycisk "Zapisz się na listę gości"\n\nBilety dost
 ępne w kasie klubu w dniu imprezy od godziny 22:00 w cenie: kobiety 20zł
 \, mężczyźni 30zł.\nDo wyprzedania w kasie klubu przy ul. Paderewskieg
 o 10 (główne wejście).\nDo każdego zakupionego biletu\, PACHA Poznań 
 zapewnia bezpłatną szatnię. W klubie obowiązuje selekcja oraz bezwzgl
 ędny zakaz żucia gumy. Przed zakupem prosimy o zapoznanie się z regulam
 inem klubu.
ATTACH;FMTTYPE=image/jpeg:https://night4u.pl/wp-content/uploads/2020/01/13
 4403_image_80869467_2627593090622414_5452812233287401472_n.png
CATEGORIES:wielkopolskie
END:VEVENT
BEGIN:VTIMEZONE
TZID:Europe/Warsaw
X-LIC-LOCATION:Europe/Warsaw
BEGIN:STANDARD
DTSTART:20191027T020000
TZOFFSETFROM:+0200
TZOFFSETTO:+0100
TZNAME:CET
END:STANDARD
END:VTIMEZONE
END:VCALENDAR