BEGIN:VCALENDAR
VERSION:2.0
PRODID:-//wp-events-plugin.com//7.2.3.1//EN
TZID:Europe/Warsaw
X-WR-TIMEZONE:Europe/Warsaw
BEGIN:VEVENT
UID:46084@night4u.pl
DTSTART;TZID=Europe/Warsaw:20200408T193000
DTEND;TZID=Europe/Warsaw:20200408T230000
DTSTAMP:20200405T170805Z
URL:https://night4u.pl/wydarzenia/hypnotic-brass-ensemble-l-8-04-l-niebo-w
 arszawa/
SUMMARY:Zmiana daty: Hypnotic Brass Ensemble l 8.04 l Niebo\, Warszawa
DESCRIPTION:KONCERT PRZENIESIONY NA INNĄ DATE\, KTÓRĄ PODAMY WKRÓTCE.\n
 \nSzanowni Państwo\, w związku obecną sytuacją Hypnotic Brass Ensemble
  zdecydowali odwołać nadchodzącą trasę europejską\, w tym także kon
 cert warszawski. Obecnie pracujemy z zespołem nad nową datą koncertu\, 
 która ogłosimy najszybciej jak będzie to możliwe. Do tego czasu sprzed
 aż biletów zostaje wstrzymana. Wszystkie bilety zachowują ważność na
  nowy termin\, każdy z Państwa otrzyma też szczegółowe informacje dro
 gą mailową z bileterii w której kupił bilet\, w tym także informacje 
 o ewentualnych zwrotach. Za powstałe niedogodności przepraszamy\, ale li
 czymy na zrozumienie podjętych decyzji.\n\nOświadczenie HBE:\n"After car
 eful consideration\, we have decided to postpone all performances in the n
 ext few months due to the global outbreak of the Coronavirus pandemic. We 
 sincerely pray for ALL in this horrific time. And we hope for ALL of the w
 orlds sake that this to shall pass. Our thoughts and prayers go out to tho
 se who have tested positive. We can only for speedy recovery. PLEASE PAY A
 TTENTION AND DON’T SLEEP ON WHAT’S GOING ON!!! STAY SAFE!!!\n#badboyso
 fjazz STILL DROPPING MARCH 20 music is still and will always be a conduit 
 for peace\, change\, healing\, happiness\, joy\, and love."\n\n\nDistorted
  Agency prezentuje:\n\nHypnotic Brass Ensemble (US)\n\nW 2019 roku Hypnoti
 c Brass Ensemble świętowali swoje dwudziestolecie nagrywając szósty st
 udyjny album\, którego premiera odbędzie się w lutym. Na trasie promuj
 ącej „Bad Boys Of Jazz” nie mogło zabraknąć Warszawy\, którą bra
 cia kochają z wzajemnością. Nowe kawałki będzie można usłyszeć na 
 żywo 8 kwietnia w Niebie!\n\nHBE przez lata wyrobili sobie opinię jedneg
 o z najlepszych brassowych składów na świecie\, dzięki czemu współpr
 acowali m.in. z Princem\, Gorillaz\, Erykah Badu\, Macy Gray czy Mos Defem
 . Ich muzyka splata funk\, dub\, hip-hop\, soul i jazz - który\, jak mów
 ią\, jest obecny w każdej odmianie muzyki afroamerykańskiej. Jednak to 
 w czym bracia - synowie Phila Cohrana z legendarnego Sun Ra Arkestra - są
  najlepsi\, to występy na żywo. Całkowita swoboda\, kunszt i dzika ener
 gia. Nie do przegapienia!\n\nBilety dostępne via:\nBiletomat.pl - bilety 
 online (on-line i kolekcjonerskie)\nGoing.\nsieć salonów empik
ATTACH;FMTTYPE=image/jpeg:https://night4u.pl/wp-content/uploads/2020/03/15
 1019_image_89926297_3816783535013311_8898746524448587776_o.jpg
CATEGORIES:mazowieckie
LOCATION:NIEBO\, ul. Nowy Świat 21\, Warsaw\, 00-029\, Poland
GEO:52.23238;21.018267
X-APPLE-STRUCTURED-LOCATION;VALUE=URI;X-ADDRESS=ul. Nowy Świat 21\, Warsaw
 \, 00-029\, Poland;X-APPLE-RADIUS=100;X-TITLE=NIEBO:geo:52.23238,21.018267
END:VEVENT
BEGIN:VTIMEZONE
TZID:Europe/Warsaw
X-LIC-LOCATION:Europe/Warsaw
BEGIN:DAYLIGHT
DTSTART:20200329T030000
TZOFFSETFROM:+0100
TZOFFSETTO:+0200
TZNAME:CEST
END:DAYLIGHT
END:VTIMEZONE
END:VCALENDAR