BEGIN:VCALENDAR
VERSION:2.0
PRODID:-//wp-events-plugin.com//7.2.3.1//EN
TZID:Europe/Warsaw
X-WR-TIMEZONE:Europe/Warsaw
BEGIN:VEVENT
UID:5015@night4u.pl
DTSTART;TZID=Europe/Warsaw:20190201T220000
DTEND;TZID=Europe/Warsaw:20190202T050000
DTSTAMP:20190124T164453Z
URL:https://night4u.pl/wydarzenia/i-4/
SUMMARY:I 
DESCRIPTION:Rockowa balanga w pierwszy piątek lutego! \n\nU2 • Nirvana 
 • Pearl Jam • Metallica • Deep Purple • The Libertines • Alice I
 n Chains • Ozzy Osbourne • Arctic Monkeys • Pixies • Green Day •
  The Smiths • Red Hot Chili Peppers • Radiohead • Soundgarden • Ae
 rosmith • The Verve • White Zombie • Oasis • The Smashing Pumpkins
  • Rise Against • Kings Of Leon • Thirty Seconds To Mars • Numb 
 • Linkin Park • Iron Maiden • System Of A Down • Deftones • Cold
 play • Organek • Kazik • Foo Fighters • Limp Bizkit • Pidżama P
 orno • Korn i drugie tyle..\n\nOdpowiedzialny za taneczne show: Rycak\n\
 nstart 22 / fb free do 23 / 10/15PLN \n+21 lat \n\n@ REZERWACJE @\nWszystk
 ie informacje dotyczące rezerwacji:\n601-552-013\nagata.mietelska@dklubli
 n.pl
ATTACH;FMTTYPE=image/jpeg:https://night4u.pl/wp-content/uploads/2019/01/15
 872_image_50167496_2203735859692372_2474461999325511680_o.jpg
CATEGORIES:lubelskie
LOCATION:Dom Kultury\, ul. Krakowskie Przedmieście 19\, Lublin\, 20-002\, 
 Poland
GEO:51.24787;22.56342
X-APPLE-STRUCTURED-LOCATION;VALUE=URI;X-ADDRESS=ul. Krakowskie Przedmieści
 e 19\, Lublin\, 20-002\, Poland;X-APPLE-RADIUS=100;X-TITLE=Dom Kultury:geo
 :51.24787,22.56342
END:VEVENT
BEGIN:VTIMEZONE
TZID:Europe/Warsaw
X-LIC-LOCATION:Europe/Warsaw
BEGIN:STANDARD
DTSTART:20181028T020000
TZOFFSETFROM:+0200
TZOFFSETTO:+0100
TZNAME:CET
END:STANDARD
END:VTIMEZONE
END:VCALENDAR