BEGIN:VCALENDAR
VERSION:2.0
PRODID:-//wp-events-plugin.com//7.2.3.1//EN
TZID:Europe/Warsaw
X-WR-TIMEZONE:Europe/Warsaw
BEGIN:VEVENT
UID:32683@night4u.pl
DTSTART;TZID=Europe/Warsaw:20191029T190000
DTEND;TZID=Europe/Warsaw:20191029T230000
DTSTAMP:20200401T081151Z
URL:https://night4u.pl/wydarzenia/i-declare-war-usa-cytotoxin-acranius-nec
 rotted-wroclaw/
SUMMARY:I Declare War [USA] / Cytotoxin / Acranius / Necrotted | Wrocław
DESCRIPTION:Wraca zespół lubiany\, ale niedoceniany podczas koncertów. W
 alcząc z deathcore'owymi stereotypami zapraszam na jedyny w Polsce koncer
 t chorego pakietu:\n\n- I Declare War [deathcore\, USA]\n\nhttps://www.you
 tube.com/watch?v=Liq3kYiy_Sc\n\nPochodzą ze Seattle i walą w ryj już od
  2005 roku. Zaliczyli już nieskończoną ilość tras po całym świecie 
 o boku największych. Trochę się nasłuchali o polskich mosh-pitach i up
 arli się na koncert we Wrocławiu\, nie zawiedźcie ich\, tym bardziej\, 
 że wpadają z zupełnie nową EP-ką "Downcast"\, której premiera jeszcz
 e przed koncertem\, a podobno miażdży kręgosłupy.\n\n- CYTOTOXIN [brut
 al tech death\, Niemcy]\n\nhttps://www.youtube.com/watch?v=JgH9vYpBB8k\n\n
 Budują skilla sukcesywnie od 2010 roku. Kompozycje tworzą zawsze z duży
 m naciskiem na techniczne brzmienie\, miażdżące karki riffy i głęboki
  basik z szybką podwójną. Pochodząca z Chemnitz ekipa znana jest z imp
 onujących występów na żywo\, zobaczymy jak zaprezentują kawałki z os
 tatniego\, świetnie przyjętego "Gammageddon" wydanego z końcem 2017 rok
 u.\n\n- Acranius [slammin brutal death\, Niemcy]\n\nhttps://www.youtube.co
 m/watch?v=t-72e3i4bZY\n\nSlamujący death metalowcy mają na koncie parę 
 dobrych krążków i koncertów\, więc wiadomo czego się po nich spodzie
 wać. Niskie wokale i prawdziwy festiwal breakdownów\, ale także solidne
  gitarowe bujanki. To jest naprawdę dobre!\n\n- NECROTTED [brutal death m
 etal\, Niemcy]\n\nhttps://www.youtube.com/watch?v=ULDPZ3-MeoM\n\nKoncert o
 tworzy banda wcale nie mniej ciekawa z całego tego chorego widowiska. Poc
 hodzą z południowych Niemiec i serwują brutalną mieszankę breakdownó
 w\, slamujących momentów i uwaga - chwytliwych refrenów. Świeża EP-ka
  "Die For Something Worthwhile" wkrótce na salonach.\n\n29.10.19 [wtorek]
 \nD.K. Luksus\nWita Stwosza 16\, Wrocław\n\nstart: 19:00\nbilety: 40zł (
 przedsprzedaż na goout.pl!) / 50zł w dniu koncertu\nhttps://goout.net/pl
 /koncerty/i-declare-war+acranius+inni/qdige/+ukhhm/
ATTACH;FMTTYPE=image/jpeg:https://night4u.pl/wp-content/uploads/2019/10/79
 840_image_60892930_335421457155520_7944380748050464768_o.jpg
CATEGORIES:dolnośląskie
LOCATION:D.K. Luksus\, Wita Stwosza 16\, Wroclaw\, 50-148\, Poland
GEO:51.10958;17.03678
X-APPLE-STRUCTURED-LOCATION;VALUE=URI;X-ADDRESS=Wita Stwosza 16\, Wroclaw\,
  50-148\, Poland;X-APPLE-RADIUS=100;X-TITLE=D.K. Luksus:geo:51.10958,17.03
 678
END:VEVENT
BEGIN:VTIMEZONE
TZID:Europe/Warsaw
X-LIC-LOCATION:Europe/Warsaw
BEGIN:STANDARD
DTSTART:20191027T020000
TZOFFSETFROM:+0200
TZOFFSETTO:+0100
TZNAME:CET
END:STANDARD
END:VTIMEZONE
END:VCALENDAR