BEGIN:VCALENDAR
VERSION:2.0
PRODID:-//wp-events-plugin.com//7.2.3.1//EN
TZID:Europe/Warsaw
X-WR-TIMEZONE:Europe/Warsaw
BEGIN:VEVENT
UID:39400@night4u.pl
DTSTART;TZID=Europe/Warsaw:20191225T220000
DTEND;TZID=Europe/Warsaw:20191226T043000
DTSTAMP:20191225T190730Z
URL:https://night4u.pl/wydarzenia/i-dzien-swiat-nitro-club/
SUMMARY:I Dzień Świąt | Nitro Club
DESCRIPTION:ŚWIĘTA W NITRO !\nSerdecznie zapraszamy na I Dzień Świąt B
 ożego Narodzenia !!\nSpecjalny wystrój klubu | Najlepsza muza | Niepowta
 rzalny klimat | Laser Show | Konfetti | Co2 i oczywiście WY!\n\nREZERWACJ
 E:\nTEL: 510 919 157\n\nStart: 22:00 | Bilet: 20 zł | 17+ | Selekcja
ATTACH;FMTTYPE=image/jpeg:https://night4u.pl/wp-content/uploads/2019/12/11
 5940_image_78659310_2579079502147031_4814546974608982016_o.jpg
CATEGORIES:opolskie
LOCATION:Nitro Club Nysa\, Nysa\, Poland
GEO:50.480313;17.339196
X-APPLE-STRUCTURED-LOCATION;VALUE=URI;X-ADDRESS=Nysa\, Poland;X-APPLE-RADIU
 S=100;X-TITLE=Nitro Club Nysa:geo:50.480313,17.339196
END:VEVENT
BEGIN:VTIMEZONE
TZID:Europe/Warsaw
X-LIC-LOCATION:Europe/Warsaw
BEGIN:STANDARD
DTSTART:20191027T020000
TZOFFSETFROM:+0200
TZOFFSETTO:+0100
TZNAME:CET
END:STANDARD
END:VTIMEZONE
END:VCALENDAR