BEGIN:VCALENDAR
VERSION:2.0
PRODID:-//wp-events-plugin.com//7.2.3.1//EN
TZID:Europe/Warsaw
X-WR-TIMEZONE:Europe/Warsaw
BEGIN:VEVENT
UID:40418@night4u.pl
DTSTART;TZID=Europe/Warsaw:20191225T210000
DTEND;TZID=Europe/Warsaw:20191226T050000
DTSTAMP:20191225T224423Z
URL:https://night4u.pl/wydarzenia/i-dzien_swiat_klub_gramofon/
SUMMARY:I Dzien_Świat_Klub_Gramofon
DESCRIPTION:Juz nie możemy się doczekać swiatecznej imprezy na ktorej sp
 otkac mozna wszystkich znajomych i wspolnie siwtowac!!!!\nJedna z najbardz
 iej szalonych nocy klubowych w roku!!!\n----------------------------------
 ----\n\nDwie sceny:\nDuza sala - House\, Commercial\, Mashup\, Swiateczne 
 HITY !!!\nMała sala - Rap\, RnB\, Trap\, Mashup\n\n----------------------
 -----------------\nWejscie\nDo 23:00 -25 PLN\nPo 23:00 - 30 PLN
ATTACH;FMTTYPE=image/jpeg:https://night4u.pl/wp-content/uploads/2019/12/12
 2082_image_79960754_2744340792283922_2461365879535828992_o.jpg
CATEGORIES:lubelskie
LOCATION:Klub Gramofon\, Biała Podlaska\, Poland
GEO:52.03268;23.120489
X-APPLE-STRUCTURED-LOCATION;VALUE=URI;X-ADDRESS=Biała Podlaska\, Poland;X-
 APPLE-RADIUS=100;X-TITLE=Klub Gramofon:geo:52.03268,23.120489
END:VEVENT
BEGIN:VTIMEZONE
TZID:Europe/Warsaw
X-LIC-LOCATION:Europe/Warsaw
BEGIN:STANDARD
DTSTART:20191027T020000
TZOFFSETFROM:+0200
TZOFFSETTO:+0100
TZNAME:CET
END:STANDARD
END:VTIMEZONE
END:VCALENDAR