BEGIN:VCALENDAR
VERSION:2.0
PRODID:-//wp-events-plugin.com//7.2.3.1//EN
TZID:Europe/Warsaw
X-WR-TIMEZONE:Europe/Warsaw
BEGIN:VEVENT
UID:6813@night4u.pl
DTSTART;TZID=Europe/Warsaw:20190307T200000
DTEND;TZID=Europe/Warsaw:20190307T230000
DTSTAMP:20190210T151807Z
URL:https://night4u.pl/wydarzenia/i-feel-good-tribute-to-james-brown-w-sta
 rej-piwnicy/
SUMMARY:I feel good! - Tribute to James Brown w Starej Piwnicy!
DESCRIPTION:"I feel good!"  - Tribute to James Brown w Starej Piwnicy!\n\nM
 iłośników muzyki funky zapraszamy na koncert "I feel good!" \, czyli Tr
 ibute to James Brown!\n7 marca sceną i parkietem Starej Piwnicy zawładni
 e pulsująca muzyka króla soulu i funky - Jamesa Browna!\n\nJames Brown u
 znawany jest za prekursora gatunków rhythm and blues\, soul i funk. Muzyk
 a Browna wywodzi się z fuzji bluesa i gospel z instrumentalnym\, taneczny
 m jazzem oraz sporymi wpływami muzyki latynoskiej.\nPodczas koncertu usł
 yszymy  m.in. "Papa's got a Brand New Bag"\,  "Get up offa that thing"\, "
 It's a man's world" i oczywiście tytułowe "I feel good"  - dobra zabawa 
 gwarantowana!\n\nEnergetyczny wieczór w funkowych rytmach poprowadzi zesp
 ół w składzie:\nZbyszek „Zbylu” Nowak - guit. voc.\nBartek Derylo -
  voc\nMarek "Stingu" Popow - guit.\nJacek Berg - key\nAndrzej Stagraczyńs
 ki - bass\nLukasz Sobolak - drums\nRobert Kamalski - sax.\noraz sekcja dę
 ta\ngościnnie zaśpiewa Paulina Gołębiewska\n\n7.03.19 godz.20:00 klub 
 muzyczny Stara Piwnica\, ul. Krupnicza 15\n"I feel good!"  - TRIBUTE TO JA
 MES BROWN\nbilety: 30 zł - przedsprzedaż\, 35 zł - w dniu koncertu\n\nB
 ilety dostępne w sieci salonów Empik i MediaMarkt w całej Polsce\noraz 
 w serwisach: www.starapiwnica.com.pl/bilety/\, www.biletin.pl\, www.eventi
 m.pl\, www.biletyna.pl\, www.ebilet.pl\, www.kupbilecik.pl\, www.empikbile
 ty.pl\nrezerwacje: bilety@o2.pl \n\nUwaga\, kupuj bilety wyłącznie w aut
 oryzowanych punktach! \nZakup biletów poza autoryzowanymi punktami sprzed
 aży (Facebook\, aukcje internetowe\, systemy odsprzedaży biletów itp.) 
 stwarza ryzyko zakupu biletów nieoryginalnych lub nieważnych\, które ni
 e umożliwią wejścia na koncert.
ATTACH;FMTTYPE=image/jpeg:https://night4u.pl/wp-content/uploads/2019/02/19
 906_image_48166601_1977875582327567_5589049764147625984_n.jpg
CATEGORIES:dolnośląskie
LOCATION:Stara Piwnica\, ul.Krupnicza 15\, Wroclaw\, 50-075\, Poland
GEO:51.107322;17.025332
X-APPLE-STRUCTURED-LOCATION;VALUE=URI;X-ADDRESS=ul.Krupnicza 15\, Wroclaw\,
  50-075\, Poland;X-APPLE-RADIUS=100;X-TITLE=Stara Piwnica:geo:51.107322,17
 .025332
END:VEVENT
BEGIN:VTIMEZONE
TZID:Europe/Warsaw
X-LIC-LOCATION:Europe/Warsaw
BEGIN:STANDARD
DTSTART:20181028T020000
TZOFFSETFROM:+0200
TZOFFSETTO:+0100
TZNAME:CET
END:STANDARD
END:VTIMEZONE
END:VCALENDAR