BEGIN:VCALENDAR
VERSION:2.0
PRODID:-//wp-events-plugin.com//7.2.3.1//EN
TZID:Europe/Warsaw
X-WR-TIMEZONE:Europe/Warsaw
BEGIN:VEVENT
UID:31020@night4u.pl
DTSTART;TZID=Europe/Warsaw:20191018T200000
DTEND;TZID=Europe/Warsaw:20191019T050000
DTSTAMP:20191018T094413Z
URL:https://night4u.pl/wydarzenia/i-love-2be-club-igo/
SUMMARY:I love 2BE club // Igo
DESCRIPTION:Cykliczna impreza 2be Clubu stworzona z pasji i zamiłowania do
  muzyki Rezydenta klubu – Michal Igo Mierzwinski\nImpreza charakteryzuje
  się starannie wybranymi kawałkami\, które podbijają muzyczne listy w 
 nietuzinkowych remix’ach!\nSpodziewajcie się najnowszych hitów muzyki 
 house\, rnb &amp\; nu-disco!\n\nBILETY I REZERWACJE:\n\nPanie wchodzą za 
 free przez całą noc\, a Panowie płacą 10 zł.\nWszyscy do 22:00 otrzym
 ują od naszej uśmiechniętej załogi Welcome drinka na powitanie :)\n\nW
  Stek i Wino oraz 2Be Club można w weekendy zarezerwować stolik.  \nChci
 ałbyś zarezerwować lożę na tą imprezę?\nWejdź na nasz system rezer
 wacyjny online i wybierz stolik\, który odpowiada Ci najbardziej.\nhttp:/
 /www.rezerwacje.2beclub.pl/2019-10-18\nJeżeli masz jakieś pytania\, zadz
 woń: 33 888 88 88 \nNasza obsługa odpowie na wszystkie Twoje pytania.\n\
 nWidzimy się na parkiecie \;)
ATTACH;FMTTYPE=image/jpeg:https://night4u.pl/wp-content/uploads/2019/10/71
 976_image_71653113_3208531275855036_409157765940903936_o.jpg
CATEGORIES:śląskie
LOCATION:2Be Club\, ul. Ratuszowa 3\, Bielsko-Biała\, 43-300\, Poland
GEO:49.82274;19.05139
X-APPLE-STRUCTURED-LOCATION;VALUE=URI;X-ADDRESS=ul. Ratuszowa 3\, Bielsko-B
 iała\, 43-300\, Poland;X-APPLE-RADIUS=100;X-TITLE=2Be Club:geo:49.82274,1
 9.05139
END:VEVENT
BEGIN:VTIMEZONE
TZID:Europe/Warsaw
X-LIC-LOCATION:Europe/Warsaw
BEGIN:DAYLIGHT
DTSTART:20190331T030000
TZOFFSETFROM:+0100
TZOFFSETTO:+0200
TZNAME:CEST
END:DAYLIGHT
END:VTIMEZONE
END:VCALENDAR