BEGIN:VCALENDAR
VERSION:2.0
PRODID:-//wp-events-plugin.com//7.2.3.1//EN
TZID:Europe/Warsaw
X-WR-TIMEZONE:Europe/Warsaw
BEGIN:VEVENT
UID:15289@night4u.pl
DTSTART;TZID=Europe/Warsaw:20190517T220000
DTEND;TZID=Europe/Warsaw:20190518T050000
DTSTAMP:20190509T093751Z
URL:https://night4u.pl/wydarzenia/i-love-90s-17-05-szalona-selekcja-by-sen
 ior-pancho/
SUMMARY:I Love 90's / 17.05 / Szalona selekcja by Senior Pancho
DESCRIPTION:Z pewnością macie jakieś ulubione kawałki z lat 90'tych\nKa
 żdy czasami lubi poszaleć przy starych numerach\, które do dziś mają 
 się nieźle i potrafią zrobić niezły kocioł na dancefloorze.\nCindy r
 ównież zaprasza serdecznie \;) \n\nSTART 22:00\nWSTĘP 5 PLN\nLISTA FACE
 BOOK DO 24:00 WSTĘP WOLNY\n\nWEJŚCIE OD UL.STASZICA / PEREPECZKI\n\nSZAL
 ONA SELEKCJA SZTOSÓW Z LAT 90'TYCH BY:\n\n# SENIOR PANCHO (GOOD LABEL REC
 )\n\nPROMO PATIO BAR OD 22:00 DO 23:00\n\nSHOT 2 PLN\nPERŁA 4 PLN\nWHISKE
 Y - 50%\n\nINFO:\n*Lista Facebook do godziny 24:00 wstęp wolny\nobowiązu
 je wszystkich którzy klikną "wezmę udział" do godziny 20:00 po tej god
 zinie osoby które się zapiszą na wydarzenie nie będą widniały na wyd
 rukowanej liście.\n\nWstęp do klubu za okazaniem dokumentu potwierdzają
 cego pełnoletność.\n\nOpłata za wstęp nie upoważnia do kolejnego wej
 ścia tego samego wieczoru bez płacenia na imprezę.\n\nKażdy uczestnik 
 wydarzenia jest zobowiązany zapoznać się z nowym regulaminem Klubu Rura
ATTACH;FMTTYPE=image/jpeg:https://night4u.pl/wp-content/uploads/2019/05/37
 777_image_59840067_2660538827349784_5553467600777773056_o.jpg
CATEGORIES:śląskie
LOCATION:Klub Rura\, Aleja Najświętszej Maryi Panny 38\, Czestochowa\, 42
 -202\, Poland
GEO:50.81223;19.115088
X-APPLE-STRUCTURED-LOCATION;VALUE=URI;X-ADDRESS=Aleja Najświętszej Maryi 
 Panny 38\, Czestochowa\, 42-202\, Poland;X-APPLE-RADIUS=100;X-TITLE=Klub R
 ura:geo:50.81223,19.115088
END:VEVENT
BEGIN:VTIMEZONE
TZID:Europe/Warsaw
X-LIC-LOCATION:Europe/Warsaw
BEGIN:DAYLIGHT
DTSTART:20190331T030000
TZOFFSETFROM:+0100
TZOFFSETTO:+0200
TZNAME:CEST
END:DAYLIGHT
END:VTIMEZONE
END:VCALENDAR