BEGIN:VCALENDAR
VERSION:2.0
PRODID:-//wp-events-plugin.com//7.2.3.1//EN
TZID:Europe/Warsaw
X-WR-TIMEZONE:Europe/Warsaw
BEGIN:VEVENT
UID:6696@night4u.pl
DTSTART;TZID=Europe/Warsaw:20190208T220000
DTEND;TZID=Europe/Warsaw:20190209T060000
DTSTAMP:20190207T103626Z
URL:https://night4u.pl/wydarzenia/i-love-fridays-old-disco-piatki-za-piatk
 e-2/
SUMMARY:I Love Fridays & Old Disco / piątki za piątkę
DESCRIPTION:Już w piątek widzimy się na imprezie "I Love Fridays & Old D
 isco"\nCykliczna impreza w każdy piątek! \nGramy muzykę z lat '80\, '90
  po współczesne hity\n\ndj: DJ ALKOVICH /sala cocon/\n__________________
 _________________\n\ndo północy promo na barach - piątki za piątkę - 
 \nduże piwo\, dużą wódkę\, wódki kolorowe (soplice) lejemy za 5zł\n
 \n___________________________________\n\nWSTĘP W KAŻDY PIĄTEK FREE \nST
 ART 22:00 | SALA COCON | +18\nW celu bezpieczeństwa i komfortu zabawy klu
 b zastrzega sobie prawo do selekcji gości.
ATTACH;FMTTYPE=image/jpeg:https://night4u.pl/wp-content/uploads/2019/02/19
 607_image_51300772_10156369335264585_7891607905063927808_o.jpg
CATEGORIES:małopolskie
LOCATION:Cocon Music Club\, ul. Gazowa 21\, Kraków\, 31-060\, Poland
GEO:50.04764;19.947289
X-APPLE-STRUCTURED-LOCATION;VALUE=URI;X-ADDRESS=ul. Gazowa 21\, Kraków\, 3
 1-060\, Poland;X-APPLE-RADIUS=100;X-TITLE=Cocon Music Club:geo:50.04764,19
 .947289
END:VEVENT
BEGIN:VTIMEZONE
TZID:Europe/Warsaw
X-LIC-LOCATION:Europe/Warsaw
BEGIN:STANDARD
DTSTART:20181028T020000
TZOFFSETFROM:+0200
TZOFFSETTO:+0100
TZNAME:CET
END:STANDARD
END:VTIMEZONE
END:VCALENDAR