BEGIN:VCALENDAR
VERSION:2.0
PRODID:-//wp-events-plugin.com//7.2.3.1//EN
TZID:Europe/Warsaw
X-WR-TIMEZONE:Europe/Warsaw
BEGIN:VEVENT
UID:48193@night4u.pl
DTSTART;TZID=Europe/Warsaw:20200228T220000
DTEND;TZID=Europe/Warsaw:20200229T050000
DTSTAMP:20200229T002544Z
URL:https://night4u.pl/wydarzenia/i-love-rocknroll-rock-indie-grunge/
SUMMARY:I love Rock'n'Roll! - Rock // Indie // Grunge
DESCRIPTION:U2 • Nirvana • Pearl Jam • Metallica • Deep Purple • 
 The Libertines • Alice In Chains • Ozzy Osbourne • Arctic Monkeys 
 • Pixies • Green Day • The Smiths • Red Hot Chili Peppers • Radi
 ohead • Soundgarden • Aerosmith • The Verve • White Zombie • Oas
 is • The Smashing Pumpkins • Rise Against • Kings Of Leon • Thirty
  Seconds To Mars • Numb • Linkin Park • Iron Maiden • System Of A 
 Down • Deftones • Coldplay • Organek • Kazik • Foo Fighters • 
 Limp Bizkit • Pidżama Porno • Korn i drugie tyle..\n\nOdpowiedzialny 
 za taneczne show: dj Ya- Neck\n\nstart 22 / fb free do 23 / 15/20zł\n+21\
 n\n@ REZERWACJE @\nWszystkie informacje dotyczące rezerwacji:\n601-529-51
 5
ATTACH;FMTTYPE=image/jpeg:https://night4u.pl/wp-content/uploads/2020/02/16
 2681_image_86610526_2920221631377121_4413916900594024448_o.jpg
CATEGORIES:lubelskie
LOCATION:Dom Kultury\, ul. Krakowskie Przedmieście 19\, Lublin\, 20-002\, 
 Poland
GEO:51.24787;22.56342
X-APPLE-STRUCTURED-LOCATION;VALUE=URI;X-ADDRESS=ul. Krakowskie Przedmieści
 e 19\, Lublin\, 20-002\, Poland;X-APPLE-RADIUS=100;X-TITLE=Dom Kultury:geo
 :51.24787,22.56342
END:VEVENT
BEGIN:VTIMEZONE
TZID:Europe/Warsaw
X-LIC-LOCATION:Europe/Warsaw
BEGIN:STANDARD
DTSTART:20191027T020000
TZOFFSETFROM:+0200
TZOFFSETTO:+0100
TZNAME:CET
END:STANDARD
END:VTIMEZONE
END:VCALENDAR