BEGIN:VCALENDAR
VERSION:2.0
PRODID:-//wp-events-plugin.com//7.2.3.1//EN
TZID:Europe/Warsaw
X-WR-TIMEZONE:Europe/Warsaw
BEGIN:VEVENT
UID:6868@night4u.pl
DTSTART;TZID=Europe/Warsaw:20190213T220000
DTEND;TZID=Europe/Warsaw:20190214T040000
DTSTAMP:20190210T154426Z
URL:https://night4u.pl/wydarzenia/i-love-you-like-i-love-ue-party/
SUMMARY:I love You like I love UE Party
DESCRIPTION:Siemanko Imprezowicze! ??\n\nWiemy że czekaliście na kolejną
  imprezę... także nadchodzimy ?! Już 13.02 (środa) kolejna odsłona UE
  Party! Tym razem specjalnie dla zakochanych ?‍❤‍?‍?... ale też t
 ych samotnych. Przesuwamy SPECJALNIE DLA WAS WALENTYNKI na środę!!! ?\n\
 n? Jeśli zastanawiałeś się\, co będziesz robić w ten wieczór- już 
 nie musisz! Nie wiedziałeś gdzie zabrać ukochaną? Załamywałeś się\
 , że znowu będziesz sam? Nic z tych rzeczy! Przychodzimy z wybawieniem! 
 Już w tą środę możecie poszaleć w X-Demon - Wrocław. Szykujemy dla 
 Was ciekawe rzeczy... także STAY TUNED i wbijajcie tłumnie! ?\n\nNa barz
 e będzie czekać na Was dość kusząca promka 3x 5 zł! ?\n\nSpecjalnie 
 dla Was mamy kolorowem opaski na ten wieczór +!\n? Zielona - WOLNY/A\n? 
 Żółta - SZUKAM PRZYGÓD\n? Czerwona - ZAJĘTY/A\n\n❤ WSTĘP ❤\n Stu
 denci UE - free\n Inni Studenci - 5 zł\n Reszta świata - 10 zł\n\n? Wid
 zimy się już niedługo!
ATTACH;FMTTYPE=image/jpeg:https://night4u.pl/wp-content/uploads/2019/02/20
 035_image_51533608_2176184045777845_3520101800768176128_o.jpg
CATEGORIES:dolnośląskie
LOCATION:X-Demon - Wrocław\, \, 
X-APPLE-STRUCTURED-LOCATION;VALUE=URI;X-ADDRESS=\, ;X-APPLE-RADIUS=100;X-TI
 TLE=X-Demon - Wrocław:geo:0,0
END:VEVENT
BEGIN:VTIMEZONE
TZID:Europe/Warsaw
X-LIC-LOCATION:Europe/Warsaw
BEGIN:STANDARD
DTSTART:20181028T020000
TZOFFSETFROM:+0200
TZOFFSETTO:+0100
TZNAME:CET
END:STANDARD
END:VTIMEZONE
END:VCALENDAR