BEGIN:VCALENDAR
VERSION:2.0
PRODID:-//wp-events-plugin.com//7.2.3.1//EN
TZID:Europe/Warsaw
X-WR-TIMEZONE:Europe/Warsaw
BEGIN:VEVENT
UID:43388@night4u.pl
DTSTART;TZID=Europe/Warsaw:20200128T193000
DTEND;TZID=Europe/Warsaw:20200128T213000
DTSTAMP:20200128T215128Z
URL:https://night4u.pl/wydarzenia/iaeste-traveler-ekwador-x-peru/
SUMMARY:IAESTE Traveler - Ekwador x Peru
DESCRIPTION:Kolejny Traveler tym razem zabierze Was do Ameryki Południowej
 \, i to aż w dwa miejsca: do krajów wulkanów🌋\, rajskich plaż 🏖
 ️ i dżungli 🐍\, wielorybów 🐋\, lam 🦙 i alpak 🦙\, do kraju 
 równika i do dawnego Państwa Inków 🤩\nCzyli Bartek i Patryk opowiedz
 ą Wam jak trafili do Ekwadoru na praktykę z IAESTE i jak to się stało\
 , że zawędrowali przy okazji do Peru 🔥
ATTACH;FMTTYPE=image/jpeg:https://night4u.pl/wp-content/uploads/2020/01/13
 8751_image_82079236_10158608185338492_4224578812152643584_o.jpg
CATEGORIES:pomorskie
LOCATION:Mechaniczna Pomarańcza\, Do Studzienki 61\, Gdansk\, 80-227\, Pol
 and
GEO:54.369531;18.61039
X-APPLE-STRUCTURED-LOCATION;VALUE=URI;X-ADDRESS=Do Studzienki 61\, Gdansk\,
  80-227\, Poland;X-APPLE-RADIUS=100;X-TITLE=Mechaniczna Pomarańcza:geo:54
 .369531,18.61039
END:VEVENT
BEGIN:VTIMEZONE
TZID:Europe/Warsaw
X-LIC-LOCATION:Europe/Warsaw
BEGIN:STANDARD
DTSTART:20191027T020000
TZOFFSETFROM:+0200
TZOFFSETTO:+0100
TZNAME:CET
END:STANDARD
END:VTIMEZONE
END:VCALENDAR