BEGIN:VCALENDAR
VERSION:2.0
PRODID:-//wp-events-plugin.com//7.2.3.1//EN
TZID:Europe/Warsaw
X-WR-TIMEZONE:Europe/Warsaw
BEGIN:VEVENT
UID:1478@night4u.pl
DTSTART;TZID=Europe/Warsaw:20190125T220000
DTEND;TZID=Europe/Warsaw:20190126T060000
DTSTAMP:20181228T235324Z
URL:https://night4u.pl/wydarzenia/ibiza-millenium-winterave/
SUMMARY:Ibiza Millenium: Winterave
DESCRIPTION:Cześć!\n\nChoć styczeń może kojarzyć się jedynie z zimne
 m i pluchą\, nie zapominajmy że to również czas wyczekiwanego przez wi
 elu karnawału. Postanowiliśmy uderzyć w tę tematykę we własny sposó
 b\, powracając z formatem dwóch scen oraz serwując Wam rytmy\, przez kt
 óre na kilka godzin zapomnicie co to śnieg i mróz. Oto WINTERAVE!\n\n\n
 ZAGRAJĄ:\n\n- TBA\n- TBA\n- Trans Timmermans\n- IWANN\n- Ravetoszyn\n- Pa
 n Dżejdżej\n\n TAX: 15/20
ATTACH;FMTTYPE=image/jpeg:https://night4u.pl/wp-content/uploads/2018/12/68
 49_image_48982025_334278570739159_7201674387383123968_o.jpg
CATEGORIES:dolnośląskie
LOCATION:D.K. Luksus\, Wita Stwosza 16\, Wroclaw\, 50-148\, Poland
GEO:51.10958;17.03678
X-APPLE-STRUCTURED-LOCATION;VALUE=URI;X-ADDRESS=Wita Stwosza 16\, Wroclaw\,
  50-148\, Poland;X-APPLE-RADIUS=100;X-TITLE=D.K. Luksus:geo:51.10958,17.03
 678
END:VEVENT
BEGIN:VTIMEZONE
TZID:Europe/Warsaw
X-LIC-LOCATION:Europe/Warsaw
BEGIN:STANDARD
DTSTART:20181028T020000
TZOFFSETFROM:+0200
TZOFFSETTO:+0100
TZNAME:CET
END:STANDARD
END:VTIMEZONE
END:VCALENDAR