BEGIN:VCALENDAR
VERSION:2.0
PRODID:-//wp-events-plugin.com//7.2.3.1//EN
TZID:Europe/Warsaw
X-WR-TIMEZONE:Europe/Warsaw
BEGIN:VEVENT
UID:33199@night4u.pl
DTSTART;TZID=Europe/Warsaw:20191107T200000
DTEND;TZID=Europe/Warsaw:20191107T223000
DTSTAMP:20191107T193330Z
URL:https://night4u.pl/wydarzenia/ii-termin-stand-up-adam-van-bendler-swia
 tlo-w-tunelu-szczecin/
SUMMARY:II Termin Stand-up Adam Van Bendler "Światło w tunelu" Szczecin
DESCRIPTION:II Termin 7 listopada w CK Stara Rzeznia w Szczecinie wystąpi 
 Adam Van Bendler ! I jego 90 minutowy program "Światło w tunelu" !\n\nAd
 am to człowieka który zaprzedał duszę komedii\, zwierzętom i... wiecz
 nym tarapatom dzięki którym zawsze ma coś ciekawego do powiedzenia. W t
 ym programie dowiemy się co siedzi w głowie introwertyka który po 5 lat
 ach bytowania w depresyjnej Skandynawii\, w obawie przed samobójem powrac
 a do ojczyzny by postawić wszystko na jedną kartę. Jeszcze nie wie\, ż
 e ta karta to tylko jopek\, którym sam się staje się w obliczu prawdziw
 ej wojny. Wojny kart pobrudzonych tanim keczupem społecznych oczekiwań i
  tłuszczem własnych lęków. Choć opis wręcz ocieka populistyczną gł
 ębią i tanią hipsterską apaszką z Pepco\, to jednak wiadomo\, że nie
  zabraknie tu znów słodko-gorzkich\, niszczących od łez żartów i dzi
 wnych hipotez w stylu do którego przyzwyczaił nas Adam.\n\nSupport : Paw
 eł Bakteria\n\nStart: 20:00\nBramy: 19:00\n\nCena: 30 zł w przedsprzeda
 ży / 40 zł w dniu wydarzenia\n\nhttps://www.kupbilecik.pl/imprezy/43366/
 Szczecin/Adam+Van+Bendler+Stand-up+Prezentuje/\n\nDo Zobaczenia !
ATTACH;FMTTYPE=image/jpeg:https://night4u.pl/wp-content/uploads/2019/10/82
 065_image_72212093_2480796238818146_6021995983846506496_o.jpg
CATEGORIES:zachodniopomorskie
LOCATION:Centrum Kultury Euroregionu Stara Rzeźnia\, Tadeusza Wendy 14\, S
 zczecin\, 70-655\, Poland
GEO:53.427148;14.573854
X-APPLE-STRUCTURED-LOCATION;VALUE=URI;X-ADDRESS=Tadeusza Wendy 14\, Szczeci
 n\, 70-655\, Poland;X-APPLE-RADIUS=100;X-TITLE=Centrum Kultury Euroregionu
  Stara Rzeźnia:geo:53.427148,14.573854
END:VEVENT
BEGIN:VTIMEZONE
TZID:Europe/Warsaw
X-LIC-LOCATION:Europe/Warsaw
BEGIN:STANDARD
DTSTART:20191027T020000
TZOFFSETFROM:+0200
TZOFFSETTO:+0100
TZNAME:CET
END:STANDARD
END:VTIMEZONE
END:VCALENDAR