BEGIN:VCALENDAR
VERSION:2.0
PRODID:-//wp-events-plugin.com//7.2.3.1//EN
TZID:Europe/Warsaw
X-WR-TIMEZONE:Europe/Warsaw
BEGIN:VEVENT
UID:5477@night4u.pl
DTSTART;TZID=Europe/Warsaw:20190214T173000
DTEND;TZID=Europe/Warsaw:20190214T193000
DTSTAMP:20190130T185843Z
URL:https://night4u.pl/wydarzenia/ii-termin-stand-up-blazej-krajewski-kome
 dia-pomylek-%e2%80%a2-lublin/
SUMMARY:II termin/ Stand-up: Błażej Krajewski "Komedia Pomyłek" • Lubl
 in
DESCRIPTION:Błażej Krajewski- komik z Bydgoszczy\, na scenie od 2013 roku
 . Zwycięzca II poznańskiego festiwalu stand-up oraz zwycięzca pierwszej
  wrocławskiej bitwy stand-uperów. Przez lata pasjonował się dubbingiem
 . Dzięki temu zyskał umiejętność imitowania głosów wielu znanych po
 staci. Niestety jest jeden głos\, którego nie potrafi naśladować. Gło
 s syna\, z którego rodzice są zadowoleni.\n\nSupport: Maks Padalak.\n\n1
 4.02.2019r.(czwartek) godz.17:30\nKlub Graffiti\nAleja Józefa Piłsudskie
 go 13 Lublin\n\n\n--------------------------------------------------------
 \nBilety:\n30zł w przedsprzedaży (dostępne na KupBilecik.pl)\n40zł w d
 niu wydarzenia ( ilość mocno ogarniczona) \n\n\n\n----------------------
 -----------------------------------\n\n\nProgram przeznaczony dla widzów 
 dorosłych.
ATTACH;FMTTYPE=image/jpeg:https://night4u.pl/wp-content/uploads/2019/01/16
 870_image_51137495_281020992593105_7409728594680741888_o.jpg
CATEGORIES:lubelskie
LOCATION:Klub Graffiti\, Al. Piłsudskiego 13\, Lublin\, 20-011\, Poland
GEO:51.240318;22.557165
X-APPLE-STRUCTURED-LOCATION;VALUE=URI;X-ADDRESS=Al. Piłsudskiego 13\, Lubl
 in\, 20-011\, Poland;X-APPLE-RADIUS=100;X-TITLE=Klub Graffiti:geo:51.24031
 8,22.557165
END:VEVENT
BEGIN:VTIMEZONE
TZID:Europe/Warsaw
X-LIC-LOCATION:Europe/Warsaw
BEGIN:STANDARD
DTSTART:20181028T020000
TZOFFSETFROM:+0200
TZOFFSETTO:+0100
TZNAME:CET
END:STANDARD
END:VTIMEZONE
END:VCALENDAR