BEGIN:VCALENDAR
VERSION:2.0
PRODID:-//wp-events-plugin.com//7.2.3.1//EN
TZID:Europe/Warsaw
X-WR-TIMEZONE:Europe/Warsaw
BEGIN:VEVENT
UID:44581@night4u.pl
DTSTART;TZID=Europe/Warsaw:20200214T210000
DTEND;TZID=Europe/Warsaw:20200215T060000
DTSTAMP:20200214T055835Z
URL:https://night4u.pl/wydarzenia/imanbek-%e2%80%a2-po-raz-pierwszy-w-pols
 ce-xdemon-zielona-gora/
SUMMARY:Imanbek • Po raz pierwszy w Polsce! // Xdemon Zielona Góra
DESCRIPTION:To chyba pierwszy przypadek\, aby na naszym rynku pojawiła si
 ę klubowa produkcja z dalekiego… Kazachstanu. Okazuje się\, że tam te
 ż są ciekawi producenci klubowej muzy. Pewnie sam Imanbek robiąc remiks
  utworu „Roses” dla wokalisty SAINt JHN\, nie spodziewał się takiego
  odzewu ze świata. A w dobie internetu wszystko jest możliwe.\n\nSAINt J
 HN - ROSES (Imanbek Remix)\nhttps://youtu.be/bNU_AA0aALM\n\nParah Dice - H
 ot (Imanbek Remix)\nhttps://youtu.be/L9CWFx0-Skc\n\nNie możesz tego przeg
 apić ! Dołącz do wydarzenia już dziś!\n\n☎ Rezerwacje ONLINE http:/
 /bit.ly/1RtF806\n INFO: 797 407 885 ☎\n\nNie zapomnij o kuszących promo
 cjach w klubie X-DEMON:\n\nPROMOCJA URODZINOWA\nPROMOCJA NA WIECZÓR PANIE
 ŃSKI \n\nOBSERWUJ NAS:\nwww.xdemon.pl\nwww.facebook.com/XDemon\nwww.insta
 gram.com/xdemonzielonagora\nsnapchat: xdemonzg\n\nTylko w X-Demonie najlep
 sza impreza nie jest przypadkiem a regułą!
ATTACH;FMTTYPE=image/jpeg:https://night4u.pl/wp-content/uploads/2020/01/14
 3955_image_84393537_3899608793386209_7358501969985536000_o.jpg
CATEGORIES:lubuskie
LOCATION:X-Demon - Zielona Góra\, \, 
X-APPLE-STRUCTURED-LOCATION;VALUE=URI;X-ADDRESS=\, ;X-APPLE-RADIUS=100;X-TI
 TLE=X-Demon - Zielona Góra:geo:0,0
END:VEVENT
BEGIN:VTIMEZONE
TZID:Europe/Warsaw
X-LIC-LOCATION:Europe/Warsaw
BEGIN:STANDARD
DTSTART:20191027T020000
TZOFFSETFROM:+0200
TZOFFSETTO:+0100
TZNAME:CET
END:STANDARD
END:VTIMEZONE
END:VCALENDAR