BEGIN:VCALENDAR
VERSION:2.0
PRODID:-//wp-events-plugin.com//7.2.3.1//EN
TZID:Europe/Warsaw
X-WR-TIMEZONE:Europe/Warsaw
BEGIN:VEVENT
UID:14412@night4u.pl
DTSTART;TZID=Europe/Warsaw:20190430T200000
DTEND;TZID=Europe/Warsaw:20190501T040000
DTSTAMP:20190430T142818Z
URL:https://night4u.pl/wydarzenia/imieniny-romana-balujemy-do-rana/
SUMMARY:Imieniny Romana - balujemy do rana
DESCRIPTION:Zapraszamy!\nWypijmy zdrowie Mariana\, Romana i każdego kompan
 a!\n\nRezerwacje: 730 163 415 \nlub on-line: \nhttps://www.poklad.pl/rezer
 wacja-rezerwacja-online-poklad.html\n\nWstęp do Klubu dla osób 18+\n\nWs
 tęp 10 pln\n*klub zastrzega sobie prawo zmiany ceny w czasie trwania impr
 ezy.
ATTACH;FMTTYPE=image/jpeg:https://night4u.pl/wp-content/uploads/2019/04/35
 899_image_58460379_2272204316169201_3448598699893063680_n.jpg
CATEGORIES:pomorskie
LOCATION:Klub Pokład\, Aleja Jana Pawła II 11\, Gdynia\, 81-345\, Poland
GEO:54.51866;18.54817
X-APPLE-STRUCTURED-LOCATION;VALUE=URI;X-ADDRESS=Aleja Jana Pawła II 11\, G
 dynia\, 81-345\, Poland;X-APPLE-RADIUS=100;X-TITLE=Klub Pokład:geo:54.518
 66,18.54817
END:VEVENT
BEGIN:VTIMEZONE
TZID:Europe/Warsaw
X-LIC-LOCATION:Europe/Warsaw
BEGIN:DAYLIGHT
DTSTART:20190331T030000
TZOFFSETFROM:+0100
TZOFFSETTO:+0200
TZNAME:CEST
END:DAYLIGHT
END:VTIMEZONE
END:VCALENDAR