BEGIN:VCALENDAR
VERSION:2.0
PRODID:-//wp-events-plugin.com//7.2.3.1//EN
TZID:Europe/Warsaw
X-WR-TIMEZONE:Europe/Warsaw
BEGIN:VEVENT
UID:32644@night4u.pl
DTSTART;TZID=Europe/Warsaw:20200202T183000
DTEND;TZID=Europe/Warsaw:20200202T230000
DTSTAMP:20200331T191332Z
URL:https://night4u.pl/wydarzenia/imminence-acres-the-oklahoma-kid-2-ii-wr
 oclaw/
SUMMARY:Imminence + Acres\, The Oklahoma Kid / 2 II / Wrocław
DESCRIPTION:Knock Out Productions prezentuje koncert Imminence we Wrocławi
 u!\n\nMetalcore’owcy wystąpią 2 lutego 2020 roku we wrocławskim klubi
 e DK Luksus. Będzie to jedyny występ Imminence w Polsce w trakcie trwani
 a zimowej trasy koncertowej.\nSzwedzka grupa przyjedzie do naszego kraju p
 romować swój najnowszy album zatytułowany „Turn The Light On”. Pły
 ta ukazała się 3 maja dzięki wytwórni Arising Empire Records.\n\nBilet
 y na koncert są już dostępne w sprzedaży! Można je zakupić online na
 : https://sklep.knockoutprod.net.\n\n--\n\n[PL] Uwaga! ⚠ Kupując bilet 
 od osób umieszczających oferty na nieautoryzowanych stronach (Viagogo\, 
 Ticketswap\, Allegro\, OLX czy Facebook)\, ryzykujesz nabycie fałszywej w
 ejściówki\, która uniemożliwia wejście na koncert. Prosimy o kupowani
 e biletów wyłącznie w autoryzowanych punktach sprzedaży\, tj. sklep.kn
 ockoutprod.net oraz eventim.pl! \n\n[ENG] Attention! ⚠ Buying tickets th
 rough unauthroized platforms (Viagogo\, Ticketswap\, etc.) is a risk of bu
 ying false tickets which will not let You participate in our shows. The on
 ly authorised ticket stores are sklep.knockoutprod.net and eventim.pl.\n\n
 --\n\n🎵 IMMINENCE (Szwecja) metalcore:\n\nPlotki o śmierci metalcore'a
  są przesadzone. Tak można z czystym sumieniem strawestować słynne pow
 iedzenie\, gdy posłucha się tego\, co ma do zaproponowania szwedzka form
 acja Imminence. Zespół\, który doceniła słynna Nuclear Blast\, z byle
  kim nie podpisująca umów.\n\nPowstały w 2010 roku w Trelleborg/Malmö 
 zespół tworzą: Eddie Berg (wokal\, skrzypce)\, Christian Höijer (gitar
 a basowa)\, Harald Barrett (gitara) i Peter Hanström (perkusja). Fundamen
 tem ich muzyki jest metalcore\, choć bliższe prawdy jest napisanie\, że
  to tylko jeden ze składników. Ponieważ Imminence czerpie z paru styló
 w\, choćby z djentu\, popu\, pop rocka\, muzyki klasycznej. Określenie "
 alternatywny metalcore" jest w sam raz.\n\nImminence wyróżniają na pier
 wszy rzut ucha dwa elementy – kapitalny wokal Eddiego (ostry i melodyjny
 )\, który ponadto gra na skrzypcach\, fortepianie i reżyseruje teledyski
  oraz świetne wstawki skrzypiec i fortepianu w utworach\, wyjątkowe w sz
 eroko pojętym metalcorze. Dodać można jeszcze świetną żonglerkę kli
 matami oraz świetne wyczucie melodii.\n\nW 2015 roku ukazał się przeło
 mowy dla Imminence singel "The Sickness". Od tamtej pory kapela niezmordow
 anie koncertuje\, zdobywając fanów w kolejnych miejscach\, do których s
 ię udaje. Na koncie mają kilka singli i albumów. Spośród tych drugich
  najmocniej namieszał "Turn The Light On"\, który zebrał entuzjastyczne
  recenzje w muzycznej prasie. Jak mówił barwnie Eddie\, płyta "rzuca ś
 wiatło na ciemność\, którą nosimy w sobie".\n\nSprawdź\, jeśli lubi
 sz: Architects\, Bury Tomorrow\, While She Sleeps…\n\n▶ https://www.im
 minenceswe.com\n▶ https://www.facebook.com/imminenceswe\n▶ https://www
 .youtube.com/watch?v=2HKRfKeVS78\n\n🎵 THE OKLAHOMA KID (Niemcy) metalco
 re\, progmetal:\n \nIch nazwa kinomanom kojarzy się z kultowym amerykańs
 kim westernem z Jamesem Cagneyem i Humphreyem Bogartem. Fanom nowoczesnego
  metalcore'u\, który dość wyraźnie smali cholewki do progmetalu\, moż
 e z kolei kojarzyć się z niemiecką formacją The Oklahoma Kid. Zespół
  od powstania w 2012 roku robi bowiem systematyczne postępy i jego nazwa 
 dość mocno zapisała się na metalcore'owej scenie. \n \nKwintet z Rosto
 cku dumnie deklaruje\, że tworzy nowoczesny metal i nie jest to przesada.
  Czerpiąc inspiracje z klasyków heavy metalu\, miesza je z dokonaniami a
 merykańskiego metalcore'u oraz techniką i motoryką charakterystyczną d
 la kapel progmetalowwych. Miszmasz tego typu daje energetyczne\, dość br
 utalne utwory\, chwilami pogmatwane technicznie\, ale niepozbawione miłyc
 h dla ucha melodii oraz ciekawego klimatu (by wziąć singlowe "Oasis" i F
 eed Me Fear"). \n \nWyglądają trochę jak wyluzowani amerykańscy skater
 zy\, których poza deską i jointem niewiele interesuje\, ale Tomm Brümme
 r (wokal)\, Fred Stölzel (gitara)\, Andreas Reinhard (gitara)\, Robert El
 fenbein (gitara basowa) oraz David J. Burtscher (perkusja) to faceci powa
 żni\, którzy wiedzą\, czego chcą. Ich biografia kończy się dość bu
 ńczucznym stwierdzeniem\, że The Oklahoma Kid (z płyt i na koncertach) 
 zmienią naszą percepcję metalu. To za jakiś czas może być prawda. Zw
 łaszcza jeśli będą nagrywać takie albumy\, jak "Solarray" (2019).\n \
 nSprawdź\, jeśli lubisz: Carnifex\, Stick To Your Guns\, Iron Maiden…\
 n\n▶ https://www.facebook.com/theoklahomakidofficial/\n▶ https://www.y
 outube.com/watch?v=pFM3fgbIPS0\n\n🎵 ACRES (Wielka Brytania) post hardco
 re:\n \nAcres to kwartet pochodzący z południowego wybrzeża Zjednoczone
 go Królestwa\, który zadebiutował w 2017 roku doskonale przyjętą EP-k
 ą "In Sickness &amp\; Health". Na niej panowie ujawnili swoje zamiłowani
 e do post hardcore'a oraz dźwięków\, które można opisać jako atmosfe
 ryczny\, klimatyczny rock. Choć wtedy dało się jeszcze bardzo wyraźnie
  wyczuć fascynacje Anglików estetyką emo i screamo. \n \nOd czasu ukaza
 nia się EP-ki Acres robili to\, co początkujący zespół robić powinie
 n – grali liczne koncerty klubowe na Wyspach oraz poza nimi\, rozwijali 
 warsztat\, pisali nowe kompozycje. W efekcie w 2019 roku sprezentowali św
 iatu debiutancki album "Lonely World". Tytułowa samotność często zesta
 wiana jest z melancholią\, nostalgią\, bólem\, cierpieniem i coś takie
 go na płycie słychać wielokrotnie. Szczególnie w niesamowitym wokalu B
 ena Lumbera. Aczkolwiek panowie nie wyrzekli się całkowicie swojej miło
 ści do ostrych dźwięków\, co słychać w wielu utworach\, chociażby t
 ytułowym\, czy "Lullaby". \n \nCechuje ich szczerość\, a płyta "Lonely
  World" to hołd dla życia dziejącego się wokół nas\, tak podsumowuj
 ą swoją twórczość Acres\, którzy zdążyli już zaprezentować swoj
 ą sztukę także w Polsce. Ci\, którzy widzieli ich na żywo\, wiedzą j
 uż\, że te słowa to nie przesada. Pozostałym poleca się przekonanie s
 ię na własne oczy i uszy\, że tak właśnie jest. \n  \nSprawdź\, jeś
 li lubisz: Holding Absence\, Casey\, Young Guns…\n\n▶ https://www.face
 book.com/acresuk/\n▶ https://www.youtube.com/watch?v=c4KSl7YLlpM\n \n\nZ
 agrają:\nIMMINENCE (Szwecja) metalcore\n+\nThe Oklahoma Kid (Niemcy) meta
 lcore\, progmetal\nAcres (Wielka Brytania) post hardcore\n\nKiedy: 2 luteg
 o (niedziela) 2020\nGdzie: Wrocław @ DK Luksus\, ul. Wita Stwosza 16\nBil
 ety: 70 zł – przedsprzedaż\,  80 zł – w dniu koncertu\nOrganizator:
  Knock Out Productions\n\nBilety na koncert dostępne na: \n🎟 https://s
 klep.knockoutprod.net (druki kolekcjonerskie)\n\n\nZaprasza\nKnock Out Pro
 ductions	\nhttp://www.knockoutprod.net\nhttps://www.facebook.com/productio
 ns.knock.out\nhttps://www.instagram.com/knockoutprod
ATTACH;FMTTYPE=image/jpeg:https://night4u.pl/wp-content/uploads/2019/10/79
 705_image_72747518_2565932733446142_1270254238697521152_o.jpg
CATEGORIES:dolnośląskie
LOCATION:D.K. Luksus\, Wita Stwosza 16\, Wroclaw\, 50-148\, Poland
GEO:51.10958;17.03678
X-APPLE-STRUCTURED-LOCATION;VALUE=URI;X-ADDRESS=Wita Stwosza 16\, Wroclaw\,
  50-148\, Poland;X-APPLE-RADIUS=100;X-TITLE=D.K. Luksus:geo:51.10958,17.03
 678
END:VEVENT
BEGIN:VTIMEZONE
TZID:Europe/Warsaw
X-LIC-LOCATION:Europe/Warsaw
BEGIN:STANDARD
DTSTART:20191027T020000
TZOFFSETFROM:+0200
TZOFFSETTO:+0100
TZNAME:CET
END:STANDARD
END:VTIMEZONE
END:VCALENDAR