BEGIN:VCALENDAR
VERSION:2.0
PRODID:-//wp-events-plugin.com//7.2.3.1//EN
TZID:Europe/Warsaw
X-WR-TIMEZONE:Europe/Warsaw
BEGIN:VEVENT
UID:36337@night4u.pl
DTSTART;TZID=Europe/Warsaw:20191121T223000
DTEND;TZID=Europe/Warsaw:20191122T040000
DTSTAMP:20191119T105042Z
URL:https://night4u.pl/wydarzenia/impreza-2-0-by-all-in-uj-prozak-2-0/
SUMMARY:Impreza 2.0 by All In UJ #Prozak 2.0
DESCRIPTION:21/11 będziemy przeżywać w Prozaku wielki comeback Impreza A
 ll In UJ. Gramy dobrze i bawimy się jeszcze lepiej. \n\nW ten wyjątkowy 
 czwartek w klubie spotkacie również Studenckie Koło Łowców Kraków\, 
 które zadba o porządny jeleni ekwipunek. 🦌\n\nPROMO 2.0 - dla osób 
 „zainteresowanych” wydarzeniem:\n\n🦌 Jägermaister 20ml = 4zł\n
 🦌 Jägerbomba = 10 zł\n🦌 Jägermaister 40ml + Cola = 10 zł\n🦌 J
 ägermaister 40ml + 7up = 10 zł\n🦌 Jägermaister 40ml + Apple Juice = 
 10 zł\n\nJesteście gotowi na Imprezę 2.0? Regularnie odwiedzajcie wydar
 zenie\, niedługo pojawi się konkurs.\n\nZróbcie #comeback razem z nami 
 i przyjdźcie w czwartek do Prozak 2.0. \n\n[-1] Impreza 2.0 by All In UJ 
 #Prozak 2.0\nDJ Sky / Zesty Zest\n\nTAX: FREE HASŁO ALL IN UJ
ATTACH;FMTTYPE=image/jpeg:https://night4u.pl/wp-content/uploads/2019/11/98
 298_image_74882951_1635831533226155_2482114965327052800_o.jpg
CATEGORIES:małopolskie
LOCATION:Prozak 2.0\, Plac Dominikański 6\, Kraków\, 31-032\, Poland
GEO:50.058986;19.938203
X-APPLE-STRUCTURED-LOCATION;VALUE=URI;X-ADDRESS=Plac Dominikański 6\, Krak
 ów\, 31-032\, Poland;X-APPLE-RADIUS=100;X-TITLE=Prozak 2.0:geo:50.058986,
 19.938203
END:VEVENT
BEGIN:VTIMEZONE
TZID:Europe/Warsaw
X-LIC-LOCATION:Europe/Warsaw
BEGIN:STANDARD
DTSTART:20191027T020000
TZOFFSETFROM:+0200
TZOFFSETTO:+0100
TZNAME:CET
END:STANDARD
END:VTIMEZONE
END:VCALENDAR