BEGIN:VCALENDAR
VERSION:2.0
PRODID:-//wp-events-plugin.com//7.2.3.1//EN
TZID:Europe/Warsaw
X-WR-TIMEZONE:Europe/Warsaw
BEGIN:VEVENT
UID:18952@night4u.pl
DTSTART;TZID=Europe/Warsaw:20190614T200000
DTEND;TZID=Europe/Warsaw:20190615T043400
DTSTAMP:20190611T180503Z
URL:https://night4u.pl/wydarzenia/impreza-bez-spinki-gwiazdy-z-okuninki-dj
 -jan/
SUMMARY:Impreza bez spinki - gwiazdy z Okuninki * DJ JAN
DESCRIPTION:Jeżeli tęsknicie za "Rusałką\, Corrado i "Sabatem" to ta im
 preza wspomnienia przywoła. Na jedną noc zamieniamy się w jaskinię wł
 odawskiej nocy i rozpylamy w Lublinie czar Pojezierza. Białe koszule\, bi
 ałe buty\, tribale\, białe czapki srebrne miniówki i klapki na koturnie
   mile widziane. Z głośników sączymy Coco jumbo\, Banię u cygana\,a n
 a barze sprzedajemy tanie wino i drogą wódkę. Pierwszy i ostatni raz b
 ędzie można dostać w głowę od ochroniarzy i poderwać dziewczynę na 
 stjuningowanego Opla Calibrę :)\n\nRezerwacja stolików\, kanapek i krzes
 ełek pieknai@pieknapszczola.pl\, ☎ 696 43 23 53. Od 20.00 zapraszamy na
    #najlepszytaraswmiescie (IV piętro CSK)\n????????\n\n?? - YANECK\nkart
 y klubowe i zaproszenia - za darmo\nmieszkańcy powiatu włodawskiego i ch
 ełmskiego - za darmo \ndo 22.00 - wszyscy za darmo\n po 22 - 10 zł\ndzie
 ci poniżej 25 lat nie wchodzą\, bo wyjechały nad prawdziwe Białe i tam
  kręcą lody\n#najgorszyklubwmiescie
ATTACH;FMTTYPE=image/jpeg:https://night4u.pl/wp-content/uploads/2019/06/45
 845_image_62154568_293048501447581_7690508581258395648_o.jpg
CATEGORIES:lubelskie
LOCATION:Piękna Pszczoła\, Plac Teatralny 1 (Budynek CSK)\, Lublin\, 20-0
 37\, Poland
GEO:51.246524;22.548666
X-APPLE-STRUCTURED-LOCATION;VALUE=URI;X-ADDRESS=Plac Teatralny 1 (Budynek C
 SK)\, Lublin\, 20-037\, Poland;X-APPLE-RADIUS=100;X-TITLE=Piękna Pszczoł
 a:geo:51.246524,22.548666
END:VEVENT
BEGIN:VTIMEZONE
TZID:Europe/Warsaw
X-LIC-LOCATION:Europe/Warsaw
BEGIN:DAYLIGHT
DTSTART:20190331T030000
TZOFFSETFROM:+0100
TZOFFSETTO:+0200
TZNAME:CEST
END:DAYLIGHT
END:VTIMEZONE
END:VCALENDAR