BEGIN:VCALENDAR
VERSION:2.0
PRODID:-//wp-events-plugin.com//7.2.3.1//EN
TZID:Europe/Warsaw
X-WR-TIMEZONE:Europe/Warsaw
BEGIN:VEVENT
UID:40383@night4u.pl
DTSTART;TZID=Europe/Warsaw:20200110T210000
DTEND;TZID=Europe/Warsaw:20200111T040000
DTSTAMP:20200109T191056Z
URL:https://night4u.pl/wydarzenia/impreza-dla-wesolych-ludzi-tylko-polska-
 muzyka-lista-fb/
SUMMARY:Impreza Dla Wesołych Ludzi//Tylko Polska Muzyka//Lista FB!
DESCRIPTION:10 Styczeń (Piątek)\n#Rzeszów Klub Pod Palmą \nul. Cicha 4a
 \n\n✰#EnglishVersionBelow\n✰Start 21:00\n✔Bilety:\n➡21:00-22:00 Li
 sta FB Wstęp #FREE (Za Okazaniem Dokumentu Tożsamości). Więc dołącz 
 do #wydarzenia i wejdź za darmo❗\n➡Po 22:00 &amp\; Pozostali Wstęp 1
 0 PLN\n\n⚡ ⚡ Listę z Facebooka zamykamy 10.01.2020 punktualnie o godz
 inie 19:00. Osoby które dodadzą się do wydarzenia po tej godzinie nie z
 ostaną wpisane już na listę❗ ⚡ ⚡\n❏ ❐ ❑ ❒ ❏ ❐ ❑ ❒
  ❏ ❐ ❑ ❒ ❏ ❐ ❑ ❒ ❏ ❐ ❑ ❐ ❑ ❒ ❏ ❐ ❑ ❏ 
 ❐ ❑\n\n\nLubisz dobrą zabawę? Uśmiech to twój atut? Ta impreza jes
 t dla Ciebie! \n\nDlatego w piątek\, jak co tydzień zapraszamy do Klubu 
 Pod Palmą na przegląd nieśmiertelnych klasyków i największych Polskic
 h hitów ♥ \nTego wieczoru królować będą #PolskiePrzeboje\, te nowsz
 e oraz nieco starsze :)\nImprezę rozkręca Dj Grocyou który wprowadzi Wa
 s w taneczne rytmy z najwyższej półki!:D\n▬▬▬▬▬▬▬▬▬
 ▬▬▬▬▬▬▬▬▬▬▬▬▬▬▬▬▬▬▬▬▬▬▬▬
 ▬\n\n✔Koło godziny 1:00 chusteczka haftowana\nhttp://www.youtube.com/
 watch?v=BvUiNRKcmBQ\n❏ ❐ ❑ ❒ ❏ ❐ ❑ ❒ ❏ ❐ ❑ ❒ ❏ 
 ❐ ❑ ❒ ❏ ❐ ❑ ❐ ❑ ❒ ❏ ❐ ❑ ❏ ❐ ❑\n\n&gt\;&gt\;&
 gt\;&gt\;W czasie imprezy: \n✘PIWO BUTELKA: 9 PLN\n✘PIWO LANE: 8 PLN\n
 ✘BANIA 25ML: 3\,5 PLN\n✘WÓDKA 0.5L: 70 PLN\n✘NAPOJE/SOKI 0.2L: 5 PL
 N\n✘ENERGETYK: 8 PLN\n❏ ❐ ❑ ❒ ❏ ❐ ❑ ❒ ❏ ❐ ❑ ❒ 
 ❏ ❐ ❑ ❒ ❏ ❐ ❑ ❐ ❑ ❒ ❏ ❐ ❑ ❏ ❐ ❑\n\n☝Tak 
 imprezowaliśmy na ostatniej Tematycznej Dyskotece:\nhttp://www.facebook.c
 om/podpalma/photos_stream?tab=photos_albums\n\n❊Loża 30 PLN\n☎Rezerwa
 cja lóż pod numerem (17) 872 39 52\, od poniedziałku do piątku między
  9.00 a 17.00. Rezerwacja loży ważna jest przez 1 h od momentu rozpoczę
 cia się danej imprezy!\n❏ ❐ ❑ ❒ ❏ ❐ ❑ ❒ ❏ ❐ ❑ ❒ 
 ❏ ❐ ❑ ❒ ❏ ❐ ❑ ❐ ❑ ❒ ❏ ❐ ❑❏ ❐ ❑\n\n★★
 ★WE'RE OPEN FROM 9 PM★ ★★\n\n#ENTRANCE⤵⤵⤵\n✔People from Fa
 cebook list ('Attending') - FREE ENTRY till 10 pm. \n✔Facebook list will
  be closed in a party day at 7 pm. \n✔Others - Tickets 10 PLN!\n▬▬
 ▬▬▬▬▬▬▬▬▬▬▬▬▬▬▬▬▬▬▬▬▬▬▬▬
 ▬▬▬▬▬▬▬▬
ATTACH;FMTTYPE=image/jpeg:https://night4u.pl/wp-content/uploads/2019/12/12
 1948_image_80322278_2725829790796594_8192436631475585024_o.jpg
CATEGORIES:podkarpackie
LOCATION:Pod Palmą\, Cicha4a\, Rzeszów\, 35-326\, Poland
GEO:50.01652;22.00478
X-APPLE-STRUCTURED-LOCATION;VALUE=URI;X-ADDRESS=Cicha4a\, Rzeszów\, 35-326
 \, Poland;X-APPLE-RADIUS=100;X-TITLE=Pod Palmą:geo:50.01652,22.00478
END:VEVENT
BEGIN:VTIMEZONE
TZID:Europe/Warsaw
X-LIC-LOCATION:Europe/Warsaw
BEGIN:STANDARD
DTSTART:20191027T020000
TZOFFSETFROM:+0200
TZOFFSETTO:+0100
TZNAME:CET
END:STANDARD
END:VTIMEZONE
END:VCALENDAR