BEGIN:VCALENDAR
VERSION:2.0
PRODID:-//wp-events-plugin.com//7.2.3.1//EN
TZID:Europe/Warsaw
X-WR-TIMEZONE:Europe/Warsaw
BEGIN:VEVENT
UID:32086@night4u.pl
DTSTART;TZID=Europe/Warsaw:20191017T220000
DTEND;TZID=Europe/Warsaw:20191018T050000
DTSTAMP:20191017T085111Z
URL:https://night4u.pl/wydarzenia/impreza-integracyjna-integration-party/
SUMMARY:Impreza Integracyjna - Integration Party
DESCRIPTION:Cześć! ✌️(ENG below)\n\nMamy przyjemność zaprosić Was 
 na Imprezę Integracyjną! Będzie to świetna okazja do bliższego poznan
 ia się i dobrej zabawy. 🔥\n\nGdzie? 👉🏾 Klub Karova (ul. Karowa 3
 1)\nKiedy? 👉🏾 17.10.2019r. \nGodzina? 👉🏾 22:00\n\nStudenci Col
 legium Civitas wejście za darmo\, za okazaniem ważnej legitymacji studen
 ckiej! 🙌 Ps. Absolwentów też zapraszamy! Piszcie do nas\, wpiszemy Wa
 s na listę! \;) ❤️\n\n‼️‼️ Wejście tylko dla osób pełnolet
 nich. 🔞\n\nHi everyone! ✌️\nWe are happy to invite you on Integrati
 on Party! \nIt's gonna be a great opportunity to meet up and have fun! 
 🔥\n\nWhere? 👉🏾 Club Karova ( st. Karowa 31)\nWhen? 👉🏾 17.10
 .2019\nTime? 👉🏾 22:00\n\nCollegium Civitas students come in for free
  upon presentations of a student ID! 🙌\n\n‼️‼️ Entrace is for a
 dults only. 🔞
ATTACH;FMTTYPE=image/jpeg:https://night4u.pl/wp-content/uploads/2019/10/75
 941_image_72149437_2520972144629734_6928427343945924608_n.jpg
CATEGORIES:mazowieckie
END:VEVENT
BEGIN:VTIMEZONE
TZID:Europe/Warsaw
X-LIC-LOCATION:Europe/Warsaw
BEGIN:DAYLIGHT
DTSTART:20190331T030000
TZOFFSETFROM:+0100
TZOFFSETTO:+0200
TZNAME:CEST
END:DAYLIGHT
END:VTIMEZONE
END:VCALENDAR