BEGIN:VCALENDAR
VERSION:2.0
PRODID:-//wp-events-plugin.com//7.2.3.1//EN
TZID:Europe/Warsaw
X-WR-TIMEZONE:Europe/Warsaw
BEGIN:VEVENT
UID:31256@night4u.pl
DTSTART;TZID=Europe/Warsaw:20191018T210000
DTEND;TZID=Europe/Warsaw:20191019T040000
DTSTAMP:20191009T200636Z
URL:https://night4u.pl/wydarzenia/impreza-przy-niebagatelnej-muzyce-dj-min
 gis-4/
SUMMARY:Impreza przy niebagatelnej muzyce DJ Mingis
DESCRIPTION:Jakie plany na piątek\nMy niezmiennie bawimy się\,  Dj Mingis
  zadba by parkiet był równie gorący jak temperatura panująca na zewną
 trz. Nie daj się prosić!
ATTACH;FMTTYPE=image/jpeg:https://night4u.pl/wp-content/uploads/2019/10/72
 656_image_71558059_2729070760457036_4935672959390973952_o.jpg
CATEGORIES:dolnośląskie
LOCATION:PUB Schody Donikąd\, Plac Solny 13\, Wroclaw\, 50-061\, Poland
GEO:51.10906;17.02869
X-APPLE-STRUCTURED-LOCATION;VALUE=URI;X-ADDRESS=Plac Solny 13\, Wroclaw\, 5
 0-061\, Poland;X-APPLE-RADIUS=100;X-TITLE=PUB Schody Donikąd:geo:51.10906
 ,17.02869
END:VEVENT
BEGIN:VTIMEZONE
TZID:Europe/Warsaw
X-LIC-LOCATION:Europe/Warsaw
BEGIN:DAYLIGHT
DTSTART:20190331T030000
TZOFFSETFROM:+0100
TZOFFSETTO:+0200
TZNAME:CEST
END:DAYLIGHT
END:VTIMEZONE
END:VCALENDAR