BEGIN:VCALENDAR
VERSION:2.0
PRODID:-//wp-events-plugin.com//7.2.3.1//EN
TZID:Europe/Warsaw
X-WR-TIMEZONE:Europe/Warsaw
BEGIN:VEVENT
UID:19473@night4u.pl
DTSTART;TZID=Europe/Warsaw:20190621T235900
DTEND;TZID=Europe/Warsaw:20190622T120000
DTSTAMP:20190617T194803Z
URL:https://night4u.pl/wydarzenia/impro-6-sleep-is-overpromised/
SUMMARY:IMPRO #6 - Sleep Is Overpromised
DESCRIPTION:#IMPRO6: Sleep Is Overpromised\n\nZapraszamy na kolejną edycj
 ę #IMPRO. Nazwa eventu wywodzi się zarówno z IMPROwizacji\, jak i IMPRE
 zy. Ta mieszanka wybuchowa gwarantuje pyszną zabawę\, przy najświeższe
 j elektronice do rana. Dlatego też niesposób zasnąć tak szybko\, po wy
 jściu z 'czarnej' na słońce.\n\nNaszą misją jest zapraszać najciekaw
 szych Artystów\, prezentujących swój materiał autorski w formie LIVE a
 ctów. Dotychczas zagrali u nas: Private Press\, Jacek Sienkiewicz\, Micha
 ł Wolski\, Piotr Figiel...\n\nTym razem wyjątkowo udało się zebrać ca
 ły nasz team i zagramy #allnighta w różnych konfiguracjach b2b. Jak to 
 wyjdzie i kto z kim? Ustalimy sami\, jak wejdziemy do klubu.\nW końcu cho
 dzi o dobrą iIMPROwizację.\n\nline up:\n\nMic Ostap  ( Recognition Rec. 
 | IMPRO )\nsc: https://soundcloud.com/dj-mic-ostap\n\nMrkrczmrk ( IMPRO )\
 nsc: https://soundcloud.com/marek-karczmarek\n\n600sto900 ( IMPRO )\nsc: h
 ttps://soundcloud.com/6s9\n\nQbs ( IMPRO )\nsc: https://soundcloud.com/qbs
 \n\nSTART: 23:59\nTIX: 30 PLN
ATTACH;FMTTYPE=image/jpeg:https://night4u.pl/wp-content/uploads/2019/06/46
 940_image_64733301_10216903015980344_2772152071011434496_o.jpg
CATEGORIES:mazowieckie
LOCATION:Luzztro\, Aleje Jerozolimskie 6\, Warsaw\, 00-374\, Poland
GEO:52.232779;21.023655
X-APPLE-STRUCTURED-LOCATION;VALUE=URI;X-ADDRESS=Aleje Jerozolimskie 6\, War
 saw\, 00-374\, Poland;X-APPLE-RADIUS=100;X-TITLE=Luzztro:geo:52.232779,21.
 023655
END:VEVENT
BEGIN:VTIMEZONE
TZID:Europe/Warsaw
X-LIC-LOCATION:Europe/Warsaw
BEGIN:DAYLIGHT
DTSTART:20190331T030000
TZOFFSETFROM:+0100
TZOFFSETTO:+0200
TZNAME:CEST
END:DAYLIGHT
END:VTIMEZONE
END:VCALENDAR