BEGIN:VCALENDAR
VERSION:2.0
PRODID:-//wp-events-plugin.com//7.2.3.1//EN
TZID:Europe/Warsaw
X-WR-TIMEZONE:Europe/Warsaw
BEGIN:VEVENT
UID:32950@night4u.pl
DTSTART;TZID=Europe/Warsaw:20191029T200000
DTEND;TZID=Europe/Warsaw:20191029T220000
DTSTAMP:20191029T211335Z
URL:https://night4u.pl/wydarzenia/improkracja-penetruje-jazz-jam-session/
SUMMARY:Improkracja Penetruje\; Jazz jam session
DESCRIPTION:Improwizowany spektakl komediowy! Żadnego scenariusza- czysta 
 improwizacja!\n\nFilmy dla dorosłych nie słyną z niezwykłej fabuły\, 
 postacie nie mają dramatycznych przemian i są jednowymiarowe. Aktorzy z 
 Teatru Improwizacji Improkracja reinterpretują te dzieła i nadają im ba
 rdziej uniwersalnego przekazu. Podczas spektaklu wyświetlany jest począt
 kowy fragment “dzieła” kiedy postacie jeszcze są... ubrane\, a nast
 ępnie film jest zatrzymywany. Aktorzy Improkracji dogrywają resztę fabu
 ły\, odkrywając niewykorzystany przez pomysłodawcę potencjał\, nadaj
 ąc jednocześnie dziełu nowy\, bardziej klasyczny\, kierunek. “Improkr
 acja Penetruje” to fuzja niecodziennej inspiracji oraz komedii najwyższ
 ej klasy.\n\nPo spektaklu zapraszamy na Jazz Jam Session z wrocławskimi m
 uzykami jazzowymi. \nKto? Teatr Improwizacji Improkracja\nCo? Penetruje\nG
 dzie? Vertigo Jazz Club &amp\; Restaurant\nKiedy? 29.10 wtorek\nO której?
  20:00\nZa ile? 30 zł\nBonus? Muzyka Jazzowa na żywo po spektaklu \nWart
 o? Warto!\n\n.............................................................
 \nTeatr Improwizacji IMPROKRACJA to najstarszy i najbardziej doświadczony
  teatr improv na Dolnym Śląsku. Utrzymuje się w ścisłej czołówce pi
 erwszych grup w Polsce\, które prezentują ten rodzaj teatru. Spektakle o
 pierają się na komediowych scenach improwizowanych\, które tworzone na 
 żywo i bez scenariusza zaskakują publiczność jak i samych aktorów.\n\
 nZachęcamy do rezerwacji miejsc w klubie: emenago.com/i/vertigojazz
ATTACH;FMTTYPE=image/jpeg:https://night4u.pl/wp-content/uploads/2019/10/81
 023_image_74627105_2517390881631153_7197905106904285184_n.jpg
CATEGORIES:dolnośląskie
LOCATION:Vertigo Jazz Club & Restaurant\, Oławska 13\, Wroclaw\, 53-125\, 
 Poland
GEO:51.10835;17.03537
X-APPLE-STRUCTURED-LOCATION;VALUE=URI;X-ADDRESS=Oławska 13\, Wroclaw\, 53-
 125\, Poland;X-APPLE-RADIUS=100;X-TITLE=Vertigo Jazz Club & Restaurant:geo
 :51.10835,17.03537
END:VEVENT
BEGIN:VTIMEZONE
TZID:Europe/Warsaw
X-LIC-LOCATION:Europe/Warsaw
BEGIN:STANDARD
DTSTART:20191027T020000
TZOFFSETFROM:+0200
TZOFFSETTO:+0100
TZNAME:CET
END:STANDARD
END:VTIMEZONE
END:VCALENDAR