BEGIN:VCALENDAR
VERSION:2.0
PRODID:-//wp-events-plugin.com//7.2.3.1//EN
TZID:Europe/Warsaw
X-WR-TIMEZONE:Europe/Warsaw
BEGIN:VEVENT
UID:47154@night4u.pl
DTSTART;TZID=Europe/Warsaw:20200310T200000
DTEND;TZID=Europe/Warsaw:20200310T220000
DTSTAMP:20200309T040227Z
URL:https://night4u.pl/wydarzenia/improkracja-youtube-party-jazz-jam-sessi
 on/
SUMMARY:Improkracja : Youtube party! | Jazz jam session
DESCRIPTION:Improwizowany spektakl komediowy! Żadnego scenariusza- czysta 
 improwizacja!\n\nKolejna odsłona improwizowanych spektakli! Improkracja z
 agra dla Was zupełnie improwizowany spektakl komediowy. Tym razem do scen
  natchną nas filmiki z Youtube\, które Wy wspólnie z nami będziecie wy
 bierać podczas spektaklu.\n\nNie wiemy jeszcze co zagramy na scenie\, ale
  wiemy\, że Wy i Jutub dostarczycie nam inspiracji!\n\n100% impro\, 100% 
 funu\, 100% zbuforowanego filmiku!\n\nKto? Teatr Improwizacji Improkracja\
 nCo? YouTube Party\nGdzie? Vertigo Jazz Club &amp\; Restaurant\nKiedy? 10.
 03 wtorek\nO której? 20:00\nZa ile? 30 zł\nBonus? Muzyka Jazzowa na żyw
 o po spektaklu \nWarto? Warto!\n\nZachęcamy do rezerwacji miejsc w klubie
 : emenago.com/i/vertigojazz\n\n...........................................
 ..................\nTeatr Improwizacji IMPROKRACJA to najstarszy i najbard
 ziej doświadczony teatr improv na Dolnym Śląsku. Utrzymuje się w ścis
 łej czołówce pierwszych grup w Polsce\, które prezentują ten rodzaj t
 eatru. Spektakle opierają się na komediowych scenach improwizowanych\, k
 tóre tworzone na żywo i bez scenariusza zaskakują publiczność jak i s
 amych aktorów.
ATTACH;FMTTYPE=image/jpeg:https://night4u.pl/wp-content/uploads/2020/02/15
 7140_image_86277490_2753930561310516_6505643652524539904_n.jpg
CATEGORIES:dolnośląskie
LOCATION:Vertigo Jazz Club & Restaurant\, Oławska 13\, Wroclaw\, 53-125\, 
 Poland
GEO:51.10835;17.03537
X-APPLE-STRUCTURED-LOCATION;VALUE=URI;X-ADDRESS=Oławska 13\, Wroclaw\, 53-
 125\, Poland;X-APPLE-RADIUS=100;X-TITLE=Vertigo Jazz Club & Restaurant:geo
 :51.10835,17.03537
END:VEVENT
BEGIN:VTIMEZONE
TZID:Europe/Warsaw
X-LIC-LOCATION:Europe/Warsaw
BEGIN:STANDARD
DTSTART:20191027T020000
TZOFFSETFROM:+0200
TZOFFSETTO:+0100
TZNAME:CET
END:STANDARD
END:VTIMEZONE
END:VCALENDAR