BEGIN:VCALENDAR
VERSION:2.0
PRODID:-//wp-events-plugin.com//7.2.3.1//EN
TZID:Europe/Warsaw
X-WR-TIMEZONE:Europe/Warsaw
BEGIN:VEVENT
UID:16368@night4u.pl
DTSTART;TZID=Europe/Warsaw:20190521T201400
DTEND;TZID=Europe/Warsaw:20190521T231400
DTSTAMP:20190516T204026Z
URL:https://night4u.pl/wydarzenia/improwizacje-komediowe/
SUMMARY:Improwizacje Komediowe
DESCRIPTION:Komedia improwizowana we wtorkowy wieczór. \nJak zwykle nasza 
 ekipa otworzy się na Wasze sugestie i zagra Wam do śmiechu. Czasem jeste
 śmy też liryczni\, natchnieni\, albo zupełnie nonsensowni.  Czasem wkł
 adamy głowę do wiadra.\n\nPrzybywajcie. Zabierajcie swoich przyjaciół.
  Zabierajcie też swoich wrogów\, może się pojednacie i pogodzicie na n
 aszym występie. Bo śmiech ma ponoć działanie terapeutyczne.\nTak mówi
 ą mądre pisma w internecie.\n\nCałuski - Cali na Biało
ATTACH;FMTTYPE=image/jpeg:https://night4u.pl/wp-content/uploads/2019/05/40
 084_image_60231503_2387671677949871_4120655322442366976_o.jpg
CATEGORIES:dolnośląskie
LOCATION:Manana Cafe\, ul. Św. Mikołaja 8-11\, Wroclaw\, 50-125\, Poland
GEO:51.111489;17.029201
X-APPLE-STRUCTURED-LOCATION;VALUE=URI;X-ADDRESS=ul. Św. Mikołaja 8-11\, W
 roclaw\, 50-125\, Poland;X-APPLE-RADIUS=100;X-TITLE=Manana Cafe:geo:51.111
 489,17.029201
END:VEVENT
BEGIN:VTIMEZONE
TZID:Europe/Warsaw
X-LIC-LOCATION:Europe/Warsaw
BEGIN:DAYLIGHT
DTSTART:20190331T030000
TZOFFSETFROM:+0100
TZOFFSETTO:+0200
TZNAME:CEST
END:DAYLIGHT
END:VTIMEZONE
END:VCALENDAR