BEGIN:VCALENDAR
VERSION:2.0
PRODID:-//wp-events-plugin.com//7.2.3.1//EN
TZID:Europe/Warsaw
X-WR-TIMEZONE:Europe/Warsaw
BEGIN:VEVENT
UID:9416@night4u.pl
DTSTART;TZID=Europe/Warsaw:20190327T190000
DTEND;TZID=Europe/Warsaw:20190327T235900
DTSTAMP:20190314T205929Z
URL:https://night4u.pl/wydarzenia/inauguracja-sezonu-driftingowego-karolin
 y-pilarczyk/
SUMMARY:Inauguracja sezonu driftingowego Karoliny Pilarczyk
DESCRIPTION:Z wielką przyjemnością zapraszamy Was na inaugurację sezonu
  driftingowego naszego Zespołu!\n\nCzekamy na Was 27 marca o godzinie 19\
 n w  Hulakula Rozrywkowe Centrum Miasta\nul Jagiellońska 82b Warszawa \n\
 nHarmonogram spotkania :\n19.00 Konferencja \, prezentacja samochodów\n20
 .00 sesja autografów \, zdjęcia \n20.30 konkursy z wartościowymi nagrod
 ami \n21.00 wspólna zabawa przy doskonałej muzyce \n\nPodczas wydarzenia
  będzie bardzo dużo atrakcji i niespodzianek!\nBędziecie mogli poznać 
 i porozmawiać z osobami odpowiedzialnymi za wszystko co dzieje się podcz
 as całego sezonu: mechanikami\, konstruktorami\, logistykami\, fotografam
 i\, przedstawicielami Sponsorów i Partnerów . \nYATO Polska Falken Circl
 e K Polska OMP Racing RECARO Automotive FMIC.PL Ecumaster Delta Lights Ma
 łachowski Projekt - Car Wrap Design Vortech Superchargers Autodrom Jastrz
 ab Restauracja TenSushi\nMoto.pl\nZaproszonych zostało też sporo gwiazd 
 show business'u\, sportowców\, dziennikarzy\, aktorzy z filmu Diablo. Wy
 ścig o wszystko \;) itp\nKażdy znajdzie odpowiedź na pytanie jakie post
 awi :) \n\nA tak było w zeszłym roku \nhttps://www.youtube.com/watch?v=R
 c-n7BNd04w\n\nZabierajcie i zapraszajcie znajomych \, przyjaciół\, rodzi
 nę.\nZróbmy wspólnie super moto wydarzenie :)\nWSTĘP WOLNY \nParking o
 dpowiedni \;)\nJeśli jest firma lub klub samochodowy który chciałby zro
 bić spotkanie w tym czasie prosimy o kontakt  \nmail : renata@blogstar.pl
ATTACH;FMTTYPE=image/jpeg:https://night4u.pl/wp-content/uploads/2019/03/25
 430_image_53117710_1672069976228717_7579114120490778624_o.jpg
CATEGORIES:mazowieckie
LOCATION:Hulakula Rozrywkowe Centrum Miasta\, ul. Jagiellońska 82b\, Warsa
 w\, 03-301\, Poland
GEO:52.273342;21.017125
X-APPLE-STRUCTURED-LOCATION;VALUE=URI;X-ADDRESS=ul. Jagiellońska 82b\, War
 saw\, 03-301\, Poland;X-APPLE-RADIUS=100;X-TITLE=Hulakula Rozrywkowe Centr
 um Miasta:geo:52.273342,21.017125
END:VEVENT
BEGIN:VTIMEZONE
TZID:Europe/Warsaw
X-LIC-LOCATION:Europe/Warsaw
BEGIN:STANDARD
DTSTART:20181028T020000
TZOFFSETFROM:+0200
TZOFFSETTO:+0100
TZNAME:CET
END:STANDARD
END:VTIMEZONE
END:VCALENDAR